BEGIN:VCALENDAR
VERSION:2.0
PRODID:-//Osnovna šola Stranje - ECPv6.15.11//NONSGML v1.0//EN
CALSCALE:GREGORIAN
METHOD:PUBLISH
X-WR-CALNAME:Osnovna šola Stranje
X-ORIGINAL-URL:https://www.os-stranje.si
X-WR-CALDESC:Dogodki za Osnovna šola Stranje
REFRESH-INTERVAL;VALUE=DURATION:PT1H
X-Robots-Tag:noindex
X-PUBLISHED-TTL:PT1H
BEGIN:VTIMEZONE
TZID:Europe/Ljubljana
BEGIN:DAYLIGHT
TZOFFSETFROM:+0100
TZOFFSETTO:+0200
TZNAME:CEST
DTSTART:20210328T010000
END:DAYLIGHT
BEGIN:STANDARD
TZOFFSETFROM:+0200
TZOFFSETTO:+0100
TZNAME:CET
DTSTART:20211031T010000
END:STANDARD
BEGIN:DAYLIGHT
TZOFFSETFROM:+0100
TZOFFSETTO:+0200
TZNAME:CEST
DTSTART:20220327T010000
END:DAYLIGHT
BEGIN:STANDARD
TZOFFSETFROM:+0200
TZOFFSETTO:+0100
TZNAME:CET
DTSTART:20221030T010000
END:STANDARD
BEGIN:DAYLIGHT
TZOFFSETFROM:+0100
TZOFFSETTO:+0200
TZNAME:CEST
DTSTART:20230326T010000
END:DAYLIGHT
BEGIN:STANDARD
TZOFFSETFROM:+0200
TZOFFSETTO:+0100
TZNAME:CET
DTSTART:20231029T010000
END:STANDARD
BEGIN:DAYLIGHT
TZOFFSETFROM:+0100
TZOFFSETTO:+0200
TZNAME:CEST
DTSTART:20240331T010000
END:DAYLIGHT
BEGIN:STANDARD
TZOFFSETFROM:+0200
TZOFFSETTO:+0100
TZNAME:CET
DTSTART:20241027T010000
END:STANDARD
END:VTIMEZONE
BEGIN:VEVENT
DTSTART;TZID=Europe/Ljubljana:20230405T140000
DTEND;TZID=Europe/Ljubljana:20230405T150000
DTSTAMP:20260419T171047
CREATED:20230327T203915Z
LAST-MODIFIED:20230327T203915Z
UID:10000219-1680703200-1680706800@www.os-stranje.si
SUMMARY:Regijsko tekmovanje iz matematike
DESCRIPTION:Na regijskem tekmovanju\, ki bo 5. 4. 2023\, bodo našo šolo zastopali Zoja Gradišek in Matej Slanovec iz 9. razreda\, Filip Maležič in Jošt Golob iz 8. razreda\, Nace Maležič\, Maks Leban\, Val Pogačnik in Edvard Pogačnik iz 7. razreda ter Tadej Uršič\, Kaja Kermavner\, Špela Poljanšek in Jon Dobovšek iz 6. razreda.
URL:https://www.os-stranje.si/dogodek/regijsko-tekmovanje-iz-matematike/
ATTACH;FMTTYPE=image/jpeg:https://www.os-stranje.si/wp-content/uploads/2019/02/antoine-dautry-428780-unsplash-scaled.jpg
END:VEVENT
BEGIN:VEVENT
DTSTART;TZID=Europe/Ljubljana:20230329T083000
DTEND;TZID=Europe/Ljubljana:20230329T124500
DTSTAMP:20260419T171047
CREATED:20230324T173932Z
LAST-MODIFIED:20230324T173932Z
UID:10000217-1680078600-1680093900@www.os-stranje.si
SUMMARY:Regijski otroški parlament
DESCRIPTION:Na OŠ MArtina Krpana v Ljubljani bo potekal regijski otroški parlament na temo Duševno zdravje otrok in mladostnikov.
URL:https://www.os-stranje.si/dogodek/regijski-otroski-parlament/
ATTACH;FMTTYPE=image/jpeg:https://www.os-stranje.si/wp-content/uploads/2023/03/OtroskiParlament2023_007.jpg
END:VEVENT
BEGIN:VEVENT
DTSTART;TZID=Europe/Ljubljana:20230316T082000
DTEND;TZID=Europe/Ljubljana:20230316T130000
DTSTAMP:20260419T171047
CREATED:20230306T185328Z
LAST-MODIFIED:20230306T185905Z
UID:10000214-1678954800-1678971600@www.os-stranje.si
SUMMARY:Športni dan za učence 6. in 9. razreda
DESCRIPTION:Učenci boste imeli v četrtek\, 16. 3. 2023\, športni dan. Celotno dopoldne boste preživeli na različnih športnih dejavnostih v dveh športnih centrih – Squashland (9. razred) in Bit center (6. razred). Več …
URL:https://www.os-stranje.si/dogodek/sportni-dan-za-ucence-6-in-9-razreda-2/
ATTACH;FMTTYPE=image/jpeg:https://www.os-stranje.si/wp-content/uploads/2023/03/sven-mieke-T8FtYThew0w-unsplash.jpg
END:VEVENT
BEGIN:VEVENT
DTSTART;TZID=Europe/Ljubljana:20230313T082000
DTEND;TZID=Europe/Ljubljana:20230313T130000
DTSTAMP:20260419T171047
CREATED:20230306T190044Z
LAST-MODIFIED:20230306T190159Z
UID:10000215-1678695600-1678712400@www.os-stranje.si
SUMMARY:Športni dan za učence 7. in 8. razreda
DESCRIPTION:Učenci boste imeli v ponedeljek\, 13. 3. 2023\, športni dan. Celotno dopoldne boste preživeli na različnih športnih dejavnostih v dveh športnih centrih – Squashland (9. razred) in Bit center (6. razred). Več …
URL:https://www.os-stranje.si/dogodek/sportni-dan-za-ucence-7-in-8-razreda-2/
ATTACH;FMTTYPE=image/jpeg:https://www.os-stranje.si/wp-content/uploads/2023/03/sven-mieke-T8FtYThew0w-unsplash.jpg
END:VEVENT
BEGIN:VEVENT
DTSTART;TZID=Europe/Ljubljana:20230313T070000
DTEND;TZID=Europe/Ljubljana:20230317T130000
DTSTAMP:20260419T171047
CREATED:20230306T214758Z
LAST-MODIFIED:20230306T214758Z
UID:10000216-1678690800-1679058000@www.os-stranje.si
SUMMARY:Teden dejavnosti za učence od 6. do 9. razreda
DESCRIPTION:V tednu med 13. in 17. marcem bomo organizirali dneve dejavnosti za učence od 6. do 9. razreda. Več …
URL:https://www.os-stranje.si/dogodek/teden-dejavnosti-za-ucence-od-6-do-9-razreda/
ATTACH;FMTTYPE=image/jpeg:https://www.os-stranje.si/wp-content/uploads/2023/03/Idrija30.jpg
END:VEVENT
BEGIN:VEVENT
DTSTART;TZID=Europe/Ljubljana:20230228T073500
DTEND;TZID=Europe/Ljubljana:20230228T082000
DTSTAMP:20260419T171047
CREATED:20230227T140325Z
LAST-MODIFIED:20230227T140325Z
UID:10000063-1677569700-1677572400@www.os-stranje.si
SUMMARY:Sestanek šolske skupnosti za učence od 6. do 9. razreda
DESCRIPTION:Sestanek šolske skupnosti bo v torek\, 28. 2.\, v času predure\, za predstavnike učencev od 6. do 9. razreda v učilnici TEHNIKE.
URL:https://www.os-stranje.si/dogodek/sestanek-solske-skupnosti-za-ucence-od-6-do-9-razreda/
ATTACH;FMTTYPE=image/jpeg:https://www.os-stranje.si/wp-content/uploads/2019/01/nathan-dumlao-572047-unsplash-scaled.jpg
END:VEVENT
BEGIN:VEVENT
DTSTART;TZID=Europe/Ljubljana:20230224T073500
DTEND;TZID=Europe/Ljubljana:20230224T091000
DTSTAMP:20260419T171047
CREATED:20230220T134351Z
LAST-MODIFIED:20230220T134351Z
UID:10000061-1677224100-1677229800@www.os-stranje.si
SUMMARY:Sestanek otroškega parlamenta za učence od 6. do 9. razreda
DESCRIPTION:Sestanek otroškega parlamenta bo v petek\, 24. 2.\, preduro in 1. šolsko uro\, za predstavnike učencev od 6. do 9. razreda v učilnici KEMIJE.
URL:https://www.os-stranje.si/dogodek/sestanek-otroskega-parlamenta-za-ucence-od-6-do-9-razreda/
ATTACH;FMTTYPE=image/jpeg:https://www.os-stranje.si/wp-content/uploads/2019/01/nathan-dumlao-572047-unsplash-scaled.jpg
END:VEVENT
BEGIN:VEVENT
DTSTART;TZID=Europe/Ljubljana:20230213T074500
DTEND;TZID=Europe/Ljubljana:20230213T170000
DTSTAMP:20260419T171047
CREATED:20230207T091104Z
LAST-MODIFIED:20230211T172904Z
UID:10000060-1676274300-1676307600@www.os-stranje.si
SUMMARY:Zimski športni dan za učence od 6. do 9. razreda
DESCRIPTION:V ponedeljek\, 13. 2. 2023\, bo potekal zimski športni dan za učence od 6. do 9. razreda. Več …
URL:https://www.os-stranje.si/dogodek/zimski-sportni-dan-za-ucence-6-in-9-razreda/
ATTACH;FMTTYPE=image/jpeg:https://www.os-stranje.si/wp-content/uploads/2023/02/adam-chang-IWenq-4JHqo-unsplash.jpg
END:VEVENT
BEGIN:VEVENT
DTSTART;TZID=Europe/Ljubljana:20230204T095500
DTEND;TZID=Europe/Ljubljana:20230204T110000
DTSTAMP:20260419T171047
CREATED:20221216T113029Z
LAST-MODIFIED:20230203T205957Z
UID:10000057-1675504500-1675508400@www.os-stranje.si
SUMMARY:Male sive celice
DESCRIPTION:V današnji oddaji Male sive celice nastopajo učenci naše šole\, Klara\, Filip in Nace\, proti učencem OŠ Vita Kraigherja Ljubljana. Vabljeni k ogledu na prvem programu RTV SLO.
URL:https://www.os-stranje.si/dogodek/male-sive-celice/
ATTACH;FMTTYPE=image/jpeg:https://www.os-stranje.si/wp-content/uploads/2022/12/MSC_20221512_001.jpg
END:VEVENT
BEGIN:VEVENT
DTSTART;TZID=Europe/Ljubljana:20230202T073500
DTEND;TZID=Europe/Ljubljana:20230202T082000
DTSTAMP:20260419T171047
CREATED:20230130T200624Z
LAST-MODIFIED:20230130T200624Z
UID:10000059-1675323300-1675326000@www.os-stranje.si
SUMMARY:4. srečanje šolske skupnosti
DESCRIPTION:Obveščam vas\, da bo 4. sestanek šolske skupnosti bo v četrtek\, 2. 2.\, v času predure v učilnici GLASBE. Srečanja naj se udeležijo predstavniki od 4. do 9. razreda.
URL:https://www.os-stranje.si/dogodek/4-srecanje-solske-skupnosti/
ATTACH;FMTTYPE=image/jpeg:https://www.os-stranje.si/wp-content/uploads/2019/01/nathan-dumlao-572047-unsplash-scaled.jpg
END:VEVENT
BEGIN:VEVENT
DTSTART;TZID=Europe/Ljubljana:20230119T073500
DTEND;TZID=Europe/Ljubljana:20230119T091000
DTSTAMP:20260419T171047
CREATED:20230109T105521Z
LAST-MODIFIED:20230117T140850Z
UID:10000058-1674113700-1674119400@www.os-stranje.si
SUMMARY:3. srečanje šolske skupnosti in otroškega parlamenta
DESCRIPTION:Obveščam vas\, da bo 3. sestanek šolske skupnosti in otroškega parlamenta v četrtek\, 19. 1\, v času predure in 1. šolske ure v učilnici GLASBE. \nV času predure se sestanka udeležijo vsi predstavniki razredov od 4. do 9. razreda\, v času 1. ure pa le predstavniki učencev od 7. do 9. razreda.
URL:https://www.os-stranje.si/dogodek/3-srecanje-solske-skupnosti-in-otroskega-parlamenta/
ATTACH;FMTTYPE=image/jpeg:https://www.os-stranje.si/wp-content/uploads/2019/01/nathan-dumlao-572047-unsplash-scaled.jpg
END:VEVENT
BEGIN:VEVENT
DTSTART;TZID=Europe/Ljubljana:20221213T180000
DTEND;TZID=Europe/Ljubljana:20221213T193000
DTSTAMP:20260419T171047
CREATED:20221205T094607Z
LAST-MODIFIED:20221205T094607Z
UID:10000056-1670954400-1670959800@www.os-stranje.si
SUMMARY:Praznična prireditev učencev OŠ Stranje
DESCRIPTION:
URL:https://www.os-stranje.si/dogodek/praznicna-prireditev-ucencev-os-stranje/
END:VEVENT
BEGIN:VEVENT
DTSTART;TZID=Europe/Ljubljana:20221124T073500
DTEND;TZID=Europe/Ljubljana:20221124T082000
DTSTAMP:20260419T171047
CREATED:20221121T223114Z
LAST-MODIFIED:20221121T223114Z
UID:10000055-1669275300-1669278000@www.os-stranje.si
SUMMARY:3. sestanek šolske skupnosti
DESCRIPTION:3. sestanek šolske skupnosti bo v četrtek\, 24. 11.\, v času predure v učilnici glasbe. Vabljeni predvsem predstavniki razredov\, ki želijo sodelovati pri decembrskem dogajanju: pošta\, postavljanje smrekic\, krašenje …
URL:https://www.os-stranje.si/dogodek/3-sestanek-solske-skupnosti/
ATTACH;FMTTYPE=image/jpeg:https://www.os-stranje.si/wp-content/uploads/2020/12/20201222_140036.jpg
END:VEVENT
BEGIN:VEVENT
DTSTART;TZID=Europe/Ljubljana:20221118T082500
DTEND;TZID=Europe/Ljubljana:20221118T130000
DTSTAMP:20260419T171047
CREATED:20221109T220619Z
LAST-MODIFIED:20221109T220619Z
UID:10000054-1668759900-1668776400@www.os-stranje.si
SUMMARY:Ekodan na OŠ Stranje
DESCRIPTION:V petek\, 18. 11. 2022\, bomo na naši šoli izvedli tehniški dan\, Ekodan. Dan bomo začeli s tradicionalnim slovenskim zajtrkom\, sledile bodo delavnice z ekološko tematiko\, rekreacija\, potekalo bo tudi zbiranje odpadnega papirja.
URL:https://www.os-stranje.si/dogodek/ekodan-na-os-stranje/
ATTACH;FMTTYPE=image/jpeg:https://www.os-stranje.si/wp-content/uploads/2021/11/Ekodan2021_085.jpg
END:VEVENT
BEGIN:VEVENT
DTSTART;TZID=Europe/Ljubljana:20221118T080000
DTEND;TZID=Europe/Ljubljana:20221118T130000
DTSTAMP:20260419T171047
CREATED:20221105T220842Z
LAST-MODIFIED:20221105T220842Z
UID:10000208-1668758400-1668776400@www.os-stranje.si
SUMMARY:Zbiralna akcija starega papirja na Podružnični šoli Gozd
DESCRIPTION:Dragi starši\, skrbniki\, vaščani\, \nObveščamo vas\, da na podružnici zbiramo star papir. Zabojnik bo stal pred šolo v petek\, 18. novembra\, od 8.00 do 13.00. \nPapir lahko pripeljete tudi prej in ga bomo do takrat shranili v naših prostorih. \nVabljeni k sodelovanju! \nUčenci in učiteljici PŠ Gozd
URL:https://www.os-stranje.si/dogodek/zbiralna-akcija-starega-papirja-na-podruznicni-soli-gozd-2/
END:VEVENT
BEGIN:VEVENT
DTSTART;TZID=Europe/Ljubljana:20221117T080000
DTEND;TZID=Europe/Ljubljana:20221118T130000
DTSTAMP:20260419T171047
CREATED:20221105T221337Z
LAST-MODIFIED:20221105T221337Z
UID:10000209-1668672000-1668776400@www.os-stranje.si
SUMMARY:Zbiralna akcija odpadnega papirja na OŠ Stranje
DESCRIPTION:Starši\, učenci\, vaščani\, \nV mesecu novembru (17. in 18. novembra) bo potekala ZBIRALNA  AKCIJA ODPADNEGA PAPIRJA. \nZato vas prosim\, da papirja doma ne mečete v zabojnike\, temveč ga do takrat shranite\, da ga bomo v šoli zbrali čim večjo količino. \nZbran papir se bo tehtalo. Učenci bodo zopet po razredih tekmovali v zbiranju starega papirja in zmagovalni razred čaka lepa nagrada. \nUčenci\, učitelji in delavci OŠ Stranje
URL:https://www.os-stranje.si/dogodek/zbiralna-akcija-odpadnega-papirja-na-os-stranje/
END:VEVENT
BEGIN:VEVENT
DTSTART;TZID=Europe/Ljubljana:20221117T080000
DTEND;TZID=Europe/Ljubljana:20221117T130000
DTSTAMP:20260419T171047
CREATED:20221109T220214Z
LAST-MODIFIED:20221110T204617Z
UID:10000213-1668672000-1668690000@www.os-stranje.si
SUMMARY:Tehniški dan 8.-9. razred - Poklicno usmerjanje
DESCRIPTION:V četrtek\, 17. 11. 2022\, bodo imeli učenci 8. in 9. razredov tehniški dan z naslovom Poklicno usmerjanje. Več …
URL:https://www.os-stranje.si/dogodek/tehniski-dan-8-9-razred-poklicno-usmerjanje/
ATTACH;FMTTYPE=image/jpeg:https://www.os-stranje.si/wp-content/uploads/2022/08/kimberly-farmer-lUaaKCUANVI-unsplash.jpg
END:VEVENT
BEGIN:VEVENT
DTSTART;TZID=Europe/Ljubljana:20221117T080000
DTEND;TZID=Europe/Ljubljana:20221117T130000
DTSTAMP:20260419T171047
CREATED:20221109T215742Z
LAST-MODIFIED:20221109T215944Z
UID:10000212-1668672000-1668690000@www.os-stranje.si
SUMMARY:Sistematski pregled za 6. a
DESCRIPTION:V četrtek\, 17. 11. 2022\, se bodo učenci 6. a razreda udeležili sistematskega pregleda v Zdravstvenem domu Kamnik.
URL:https://www.os-stranje.si/dogodek/sistematski-pregled-za-6-a/
ATTACH;FMTTYPE=image/jpeg:https://www.os-stranje.si/wp-content/uploads/2022/11/derek-finch-Gi8Q8IfpxdY-unsplash.jpg
END:VEVENT
BEGIN:VEVENT
DTSTART;TZID=Europe/Ljubljana:20221116T082500
DTEND;TZID=Europe/Ljubljana:20221116T134500
DTSTAMP:20260419T171047
CREATED:20221109T215058Z
LAST-MODIFIED:20221110T190840Z
UID:10000211-1668587100-1668606300@www.os-stranje.si
SUMMARY:Kulturni dan 6.-9. razred - Glasbene reke
DESCRIPTION:V sredo\, 16. 11. 2022\, se bomo odpravili v Cankarjev dom na koncert. Več …
URL:https://www.os-stranje.si/dogodek/kulturni-dan-6-9-razred-glasbene-reke/
ATTACH;FMTTYPE=image/jpeg:https://www.os-stranje.si/wp-content/uploads/2020/12/kael-bloom-0Fko0cLI2VQ-unsplash.jpg
END:VEVENT
BEGIN:VEVENT
DTSTART;TZID=Europe/Ljubljana:20221111T073500
DTEND;TZID=Europe/Ljubljana:20221111T091000
DTSTAMP:20260419T171047
CREATED:20221107T220103Z
LAST-MODIFIED:20221107T220103Z
UID:10000210-1668152100-1668157800@www.os-stranje.si
SUMMARY:2. srečanje šolske skupnosti in otroškega parlamenta
DESCRIPTION:V petek\, 11. 11. 2022\, bo pred uro in 1. uro v učilnici KEMIJE potekalo 2. srečanje šolske skupnosti in otroškega parlamenta.
URL:https://www.os-stranje.si/dogodek/2-srecanje-solske-skupnosti-in-otroskega-parlamenta/
ATTACH;FMTTYPE=image/jpeg:https://www.os-stranje.si/wp-content/uploads/2019/01/nathan-dumlao-572047-unsplash-scaled.jpg
END:VEVENT
BEGIN:VEVENT
DTSTART;TZID=Europe/Ljubljana:20221108T170000
DTEND;TZID=Europe/Ljubljana:20221108T183000
DTSTAMP:20260419T171047
CREATED:20221027T121539Z
LAST-MODIFIED:20221027T121539Z
UID:10000207-1667926800-1667932200@www.os-stranje.si
SUMMARY:Sejem srednjih šol
DESCRIPTION:V torek po počtinicah\, 8. 11. 2022 od 17:00 do 18:30 v telovadnici OŠ Stranje Sejem srednjih šol. Več …
URL:https://www.os-stranje.si/dogodek/sejem-srednjih-sol-2/
ATTACH;FMTTYPE=image/jpeg:https://www.os-stranje.si/wp-content/uploads/2019/01/nathan-dumlao-572047-unsplash-scaled.jpg
END:VEVENT
BEGIN:VEVENT
DTSTART;TZID=Europe/Ljubljana:20221014T073500
DTEND;TZID=Europe/Ljubljana:20221014T091000
DTSTAMP:20260419T171047
CREATED:20221010T214824Z
LAST-MODIFIED:20221010T214824Z
UID:10000205-1665732900-1665738600@www.os-stranje.si
SUMMARY:1. srečanje šolske skupnosti in otroškega parlamenta
DESCRIPTION:V petek\, 14. 10. 2022\, bo pred uro in 1. uro v učilnici KEMIJE potekalo 1. srečanje šolske skupnosti in otroškega parlamenta.
URL:https://www.os-stranje.si/dogodek/1-srecanje-solske-skupnosti-in-otroskega-parlamenta/
ATTACH;FMTTYPE=image/jpeg:https://www.os-stranje.si/wp-content/uploads/2019/01/nathan-dumlao-572047-unsplash-scaled.jpg
END:VEVENT
BEGIN:VEVENT
DTSTART;TZID=Europe/Ljubljana:20220913T073000
DTEND;TZID=Europe/Ljubljana:20220913T143000
DTSTAMP:20260419T171047
CREATED:20220907T205854Z
LAST-MODIFIED:20220907T205854Z
UID:10000206-1663054200-1663079400@www.os-stranje.si
SUMMARY:Športi dan za 6. in 9. razred
DESCRIPTION:V torek\, 13. 9. 2022\, bodo imeli učenci 6. in 9. razredov športni dan. Več …
URL:https://www.os-stranje.si/dogodek/sporti-dan-za-6-in-9-razred/
ATTACH;FMTTYPE=image/jpeg:https://www.os-stranje.si/wp-content/uploads/2022/09/20200921_111522_HDR.jpg
END:VEVENT
BEGIN:VEVENT
DTSTART;TZID=Europe/Ljubljana:20220622T081500
DTEND;TZID=Europe/Ljubljana:20220622T130000
DTSTAMP:20260419T171047
CREATED:20220619T193423Z
LAST-MODIFIED:20220619T193423Z
UID:10000204-1655885700-1655902800@www.os-stranje.si
SUMMARY:Kulturni dan za učence 7. razreda – Rastem s knjigo
DESCRIPTION:Učenci 7. razredov bodo v sredo\, 22. junija\, odšli v Knjižnico Franceta Balantiča Kamnik. Tam jih čaka predstavitev projekta Rastem s knjigo in delavnice. Več …
URL:https://www.os-stranje.si/dogodek/kulturni-dan-za-ucence-7-razreda-rastem-s-knjigo/
ATTACH;FMTTYPE=image/jpeg:https://www.os-stranje.si/wp-content/uploads/2022/06/csm_Rastem_s_knjigo_logotip_1098ffca6b.jpg
END:VEVENT
BEGIN:VEVENT
DTSTART;TZID=Europe/Ljubljana:20220616T082000
DTEND;TZID=Europe/Ljubljana:20220616T130000
DTSTAMP:20260419T171047
CREATED:20220615T103353Z
LAST-MODIFIED:20220615T103353Z
UID:10000053-1655367600-1655384400@www.os-stranje.si
SUMMARY:Tehniški dan za 8. razred - 3D tisk in 3D modeliranje
DESCRIPTION:V četrtek\, 16. 6. 2022\, bodo imeli učenci 8. razredov tehniški dan. Več …
URL:https://www.os-stranje.si/dogodek/tehniski-dan-za-8-razred-3d-tisk-in-3d-modeliranje/
ATTACH;FMTTYPE=image/jpeg:https://www.os-stranje.si/wp-content/uploads/2022/06/printer-gec4bd3c87_1280.jpg
END:VEVENT
BEGIN:VEVENT
DTSTART;TZID=Europe/Ljubljana:20220616T082000
DTEND;TZID=Europe/Ljubljana:20220616T130000
DTSTAMP:20260419T171047
CREATED:20220613T095336Z
LAST-MODIFIED:20220613T095336Z
UID:10000051-1655367600-1655384400@www.os-stranje.si
SUMMARY:Športni dan za 7. razred - Izbirne vsebine
DESCRIPTION:V četrtek\, 16. 6. 2022\, bodi imeli učenci 7. razredov športni dan. Več …
URL:https://www.os-stranje.si/dogodek/sportni-dan-za-7-razred-izbirne-vsebine-2/
ATTACH;FMTTYPE=image/jpeg:https://www.os-stranje.si/wp-content/uploads/2021/06/thomas-park-QGdRrty4054-unsplash.jpg
END:VEVENT
BEGIN:VEVENT
DTSTART;TZID=Europe/Ljubljana:20220616T080000
DTEND;TZID=Europe/Ljubljana:20220616T130000
DTSTAMP:20260419T171047
CREATED:20220531T121559Z
LAST-MODIFIED:20220531T121559Z
UID:10000050-1655366400-1655384400@www.os-stranje.si
SUMMARY:Zbiralna akcija odpadnega papirja
DESCRIPTION:ZBIRALNA AKCIJA ODPADNEGA PAPIRJA bo potekala v SREDO\, 15. 6. 2022 (od 8. do 15. ure) in v ČETRTEK\, 16. 6. 2022 (od 8. do 13. ure) na parkirišču pri gasilskem domu. Več …
URL:https://www.os-stranje.si/dogodek/zbiralna-akcija-odpadnega-papirja-4/
ATTACH;FMTTYPE=image/jpeg:https://www.os-stranje.si/wp-content/uploads/2019/11/StarPapir.jpg
END:VEVENT
BEGIN:VEVENT
DTSTART;TZID=Europe/Ljubljana:20220615T082000
DTEND;TZID=Europe/Ljubljana:20220615T130000
DTSTAMP:20260419T171047
CREATED:20220613T095648Z
LAST-MODIFIED:20220613T095723Z
UID:10000052-1655281200-1655298000@www.os-stranje.si
SUMMARY:Športni dan za 8. razred – Izbirne vsebine
DESCRIPTION:V sreda\, 15. 6. 2022\, bodi imeli učenci 8. razredov športni dan. Več …
URL:https://www.os-stranje.si/dogodek/sportni-dan-za-7-razred-izbirne-vsebine-3/
ATTACH;FMTTYPE=image/jpeg:https://www.os-stranje.si/wp-content/uploads/2021/06/thomas-park-QGdRrty4054-unsplash.jpg
END:VEVENT
BEGIN:VEVENT
DTSTART;TZID=Europe/Ljubljana:20220615T080000
DTEND;TZID=Europe/Ljubljana:20220615T150000
DTSTAMP:20260419T171047
CREATED:20220531T121402Z
LAST-MODIFIED:20220531T121441Z
UID:10000049-1655280000-1655305200@www.os-stranje.si
SUMMARY:Zbiralna akcija odpadnega papirja
DESCRIPTION:ZBIRALNA AKCIJA ODPADNEGA PAPIRJA bo potekala v SREDO\, 15. 6. 2022 (od 8. do 15. ure) in v ČETRTEK\, 16. 6. 2022 (od 8. do 13. ure) na parkirišču pri gasilskem domu. Več …
URL:https://www.os-stranje.si/dogodek/zbiralna-akcija-odpadnega-papirja-3/
ATTACH;FMTTYPE=image/jpeg:https://www.os-stranje.si/wp-content/uploads/2019/11/StarPapir.jpg
END:VEVENT
BEGIN:VEVENT
DTSTART;TZID=Europe/Ljubljana:20220603T073500
DTEND;TZID=Europe/Ljubljana:20220603T082000
DTSTAMP:20260419T171047
CREATED:20220530T202120Z
LAST-MODIFIED:20220530T202120Z
UID:10000048-1654241700-1654244400@www.os-stranje.si
SUMMARY:Sestanek šolske skupnosti
DESCRIPTION:Sklicujem zadnji sestanek šolske skupnosti in otroškega parlamenta\, ki bo v petek\, 3. 6. 2022\, v času predure v učilnici KEMIJE. Vabljeni predstavniki učencev od 4. do 9. razreda. \n\nLepo vas pozdravljam\,\nSanja Klemenc
URL:https://www.os-stranje.si/dogodek/sestanek-solske-skupnosti/
ATTACH;FMTTYPE=image/jpeg:https://www.os-stranje.si/wp-content/uploads/2019/08/element5-digital-OyCl7Y4y0Bk-unsplash_1600.jpg
END:VEVENT
END:VCALENDAR