BEGIN:VCALENDAR
VERSION:2.0
PRODID:-//Osnovna šola Stranje - ECPv6.15.11//NONSGML v1.0//EN
CALSCALE:GREGORIAN
METHOD:PUBLISH
X-WR-CALNAME:Osnovna šola Stranje
X-ORIGINAL-URL:https://www.os-stranje.si
X-WR-CALDESC:Dogodki za Osnovna šola Stranje
REFRESH-INTERVAL;VALUE=DURATION:PT1H
X-Robots-Tag:noindex
X-PUBLISHED-TTL:PT1H
BEGIN:VTIMEZONE
TZID:Europe/Ljubljana
BEGIN:DAYLIGHT
TZOFFSETFROM:+0100
TZOFFSETTO:+0200
TZNAME:CEST
DTSTART:20210328T010000
END:DAYLIGHT
BEGIN:STANDARD
TZOFFSETFROM:+0200
TZOFFSETTO:+0100
TZNAME:CET
DTSTART:20211031T010000
END:STANDARD
BEGIN:DAYLIGHT
TZOFFSETFROM:+0100
TZOFFSETTO:+0200
TZNAME:CEST
DTSTART:20220327T010000
END:DAYLIGHT
BEGIN:STANDARD
TZOFFSETFROM:+0200
TZOFFSETTO:+0100
TZNAME:CET
DTSTART:20221030T010000
END:STANDARD
BEGIN:DAYLIGHT
TZOFFSETFROM:+0100
TZOFFSETTO:+0200
TZNAME:CEST
DTSTART:20230326T010000
END:DAYLIGHT
BEGIN:STANDARD
TZOFFSETFROM:+0200
TZOFFSETTO:+0100
TZNAME:CET
DTSTART:20231029T010000
END:STANDARD
BEGIN:DAYLIGHT
TZOFFSETFROM:+0100
TZOFFSETTO:+0200
TZNAME:CEST
DTSTART:20240331T010000
END:DAYLIGHT
BEGIN:STANDARD
TZOFFSETFROM:+0200
TZOFFSETTO:+0100
TZNAME:CET
DTSTART:20241027T010000
END:STANDARD
END:VTIMEZONE
BEGIN:VEVENT
DTSTART;TZID=Europe/Ljubljana:20230610T100000
DTEND;TZID=Europe/Ljubljana:20230610T150000
DTSTAMP:20260420T093233
CREATED:20230610T051046Z
LAST-MODIFIED:20230610T051248Z
UID:10000225-1686391200-1686409200@www.os-stranje.si
SUMMARY:Vabilo na ogled malih železnic
DESCRIPTION:
URL:https://www.os-stranje.si/dogodek/vabilo-na-ogled-malih-zeleznic/
ATTACH;FMTTYPE=image/jpeg:https://www.os-stranje.si/wp-content/uploads/2023/02/TehnicniKrozek_005.jpg
END:VEVENT
BEGIN:VEVENT
DTSTART;TZID=Europe/Ljubljana:20230609T073000
DTEND;TZID=Europe/Ljubljana:20230609T130000
DTSTAMP:20260420T093233
CREATED:20230607T141757Z
LAST-MODIFIED:20230607T141757Z
UID:10000224-1686295800-1686315600@www.os-stranje.si
SUMMARY:Športni dan za 7. in 8. razred – ATLETSKO TEKMOVANJE
DESCRIPTION:V petek\, 9. 6. 2023\, imajo učenci 7. in 8. razredov športni dan ATLETSKO TEKMOVANJE. Več …
URL:https://www.os-stranje.si/dogodek/sportni-dan-za-7-in-8-razred-atletsko-tekmovanje-2/
ATTACH;FMTTYPE=image/jpeg:https://www.os-stranje.si/wp-content/uploads/2020/06/fitsum-admasu-oGv9xIl7DkY-unsplash-scaled.jpg
END:VEVENT
BEGIN:VEVENT
DTSTART;TZID=Europe/Ljubljana:20230608T073000
DTEND;TZID=Europe/Ljubljana:20230608T130000
DTSTAMP:20260420T093233
CREATED:20230606T201730Z
LAST-MODIFIED:20230606T201730Z
UID:10000073-1686209400-1686229200@www.os-stranje.si
SUMMARY:Športni dan za 6. razred – ATLETSKO TEKMOVANJE
DESCRIPTION:V četrtek\, 8. 6. 2023\, imajo učenci 6. razredov športni dan ATLETSKO TEKMOVANJE. Več …
URL:https://www.os-stranje.si/dogodek/sportni-dan-za-6-razred-atletsko-tekmovanje/
ATTACH;FMTTYPE=image/jpeg:https://www.os-stranje.si/wp-content/uploads/2019/04/adi-goldstein-777960-unsplash.jpg
END:VEVENT
BEGIN:VEVENT
DTSTART;TZID=Europe/Ljubljana:20230606T082000
DTEND;TZID=Europe/Ljubljana:20230606T130000
DTSTAMP:20260420T093233
CREATED:20230604T123707Z
LAST-MODIFIED:20230604T123707Z
UID:10000072-1686039600-1686056400@www.os-stranje.si
SUMMARY:Naravoslovni dan za učence 6. razreda
DESCRIPTION:Učenci boste imeli v torek 6.6. 2023\, naravoslovni dan. Obiskali boste Arboretum Volčji potok.Več …
URL:https://www.os-stranje.si/dogodek/naravoslovni-dan-za-ucence-6-razreda/
ATTACH;FMTTYPE=image/jpeg:https://www.os-stranje.si/wp-content/uploads/2021/09/20210720_183550.jpg
END:VEVENT
BEGIN:VEVENT
DTSTART;TZID=Europe/Ljubljana:20230603T095000
DTEND;TZID=Europe/Ljubljana:20230603T105000
DTSTAMP:20260420T093233
CREATED:20230516T201512Z
LAST-MODIFIED:20230516T201512Z
UID:10000070-1685785800-1685789400@www.os-stranje.si
SUMMARY:Male sive celice - BEST OF
DESCRIPTION:Oddajo Male sive celice z najboljšimi dogodki letošnjega kviza si oglejte na 1. programu RTV SLO ob 9.50.
URL:https://www.os-stranje.si/dogodek/male-sive-celice-best-of/
ATTACH;FMTTYPE=image/jpeg:https://www.os-stranje.si/wp-content/uploads/2023/05/MSC2023_040.jpg
END:VEVENT
BEGIN:VEVENT
DTSTART;TZID=Europe/Ljubljana:20230530T063000
DTEND;TZID=Europe/Ljubljana:20230530T173000
DTSTAMP:20260420T093233
CREATED:20230525T132122Z
LAST-MODIFIED:20230525T132122Z
UID:10000071-1685428200-1685467800@www.os-stranje.si
SUMMARY:Naravoslovni dan za 7. razred - Primorje
DESCRIPTION:V torek\, 30. 5. 2023\, si bodo učenci 7. razredov ogledali Krajinski park Strunjan\, traso nekdanje ozkotirne železnice Porečanke ter mesto in Akvarij Piran. \nDatum: 30. 5. 2023.\nZbor: 6.30 v avli\, kjer vzamete malico in počakate na učitelje.\nOdhod: 6.45 izpred šole.\nPovratek: okoli 17.30. \nS seboj morate imeti mapo\, pisalo.\nBodite primerno obuti in oblečeni! Poskrbite za zaščito proti soncu.\nS seboj imejte dodatno malico ter dovolj nesladke tekočine. Kosila ta dan ne bo! \nCena vseh ogledov in vodenj (Krajinski park Strunjan\, Piran\, Akvarij Piran) znaša 9\,5 EUR/učenca ter strošek prevoza (plačilo po položnici).
URL:https://www.os-stranje.si/dogodek/naravoslovni-dan-za-7-razred-primorje/
ATTACH;FMTTYPE=image/jpeg:https://www.os-stranje.si/wp-content/uploads/2023/05/Kras2019_038.jpg
END:VEVENT
BEGIN:VEVENT
DTSTART;TZID=Europe/Ljubljana:20230529T073000
DTEND;TZID=Europe/Ljubljana:20230529T150000
DTSTAMP:20260420T093233
CREATED:20230503T183414Z
LAST-MODIFIED:20230525T132238Z
UID:10000065-1685345400-1685372400@www.os-stranje.si
SUMMARY:Športni dan za 8. razred - Bohinj
DESCRIPTION:V ponedeljek\, 29. 5. 2023\, imajo učenci 8. razredov športni dan v Bohinju. Več ...
URL:https://www.os-stranje.si/dogodek/sportni-dan-za-8-razred-bohinj/
ATTACH;FMTTYPE=image/jpeg:https://www.os-stranje.si/wp-content/uploads/2023/04/20220618_164408.jpg
END:VEVENT
BEGIN:VEVENT
DTSTART;TZID=Europe/Ljubljana:20230527T094000
DTEND;TZID=Europe/Ljubljana:20230527T104000
DTSTAMP:20260420T093233
CREATED:20230516T200649Z
LAST-MODIFIED:20230516T200649Z
UID:10000069-1685180400-1685184000@www.os-stranje.si
SUMMARY:Male sive celice - finale
DESCRIPTION:Zmagovalni nastop Klare\, Filipa in Naceta v finalni oddaji Malih sivih celic si oglejte na 1. programu RTV SLO ob 9.55.
URL:https://www.os-stranje.si/dogodek/male-sive-celice-finale/
ATTACH;FMTTYPE=image/jpeg:https://www.os-stranje.si/wp-content/uploads/2023/05/MSC2023_021.jpg
END:VEVENT
BEGIN:VEVENT
DTSTART;TZID=Europe/Ljubljana:20230524T080000
DTEND;TZID=Europe/Ljubljana:20230525T130000
DTSTAMP:20260420T093233
CREATED:20230424T091703Z
LAST-MODIFIED:20230424T091703Z
UID:10000223-1684915200-1685019600@www.os-stranje.si
SUMMARY:Zbiralna akcija odpadnega papirja
DESCRIPTION:Zbiralna akcija odpadnega papirja bo potekala v sredo\,  24. 5. 2023 (od 8. do 15. ure) in v ČETRTEK\, 25. 5. 2023 (od 8. do 13. ure) na parkirišču pri gasilskem domu. \nRazred\, ki bo zbral največ odpadnega papirja čaka lepa nagrada. \n 
URL:https://www.os-stranje.si/dogodek/zbiralna-akcija-odpadnega-papirja-5/
ATTACH;FMTTYPE=image/jpeg:https://www.os-stranje.si/wp-content/uploads/2019/11/StarPapir.jpg
END:VEVENT
BEGIN:VEVENT
DTSTART;TZID=Europe/Ljubljana:20230520T095500
DTEND;TZID=Europe/Ljubljana:20230520T105500
DTSTAMP:20260420T093233
CREATED:20230516T200423Z
LAST-MODIFIED:20230516T200443Z
UID:10000068-1684576500-1684580100@www.os-stranje.si
SUMMARY:Male sive celice - polfinale
DESCRIPTION:Nastop Klare\, Filipa in Naceta v polfinalni oddaji Malih sivih celic si oglejte na 1. programu RTV SLO ob 9.55.
URL:https://www.os-stranje.si/dogodek/male-sive-celice-polfinale/
ATTACH;FMTTYPE=image/jpeg:https://www.os-stranje.si/wp-content/uploads/2023/05/MSC2023_014.jpg
END:VEVENT
BEGIN:VEVENT
DTSTART;TZID=Europe/Ljubljana:20230517T080000
DTEND;TZID=Europe/Ljubljana:20230517T130000
DTSTAMP:20260420T093233
CREATED:20230512T105820Z
LAST-MODIFIED:20230512T105820Z
UID:10000067-1684310400-1684328400@www.os-stranje.si
SUMMARY:Kulturni dan za učence 9. razreda
DESCRIPTION:Učenci 9. razreda bodo v sredo\, 17. maja\, odšli na Vrhniko in se podali po poti Cankarjeve mladosti. \nPotek kulturnega dne:\nZbor pred šolo: 8.05;\nOdhod izpred šole na Vrhniko: 8.20;\nVoden ogled po Vrhniki: 9.30–11.30;\nPrihod v Stranje: 13.00. \nTega dne so učenci odjavljeni od kosila.\nCena zajema voden ogled (3 €) in prevoz.
URL:https://www.os-stranje.si/dogodek/kulturni-dan-za-ucence-9-razreda/
ATTACH;FMTTYPE=image/jpeg:https://www.os-stranje.si/wp-content/uploads/2023/05/600pxnaslovka-MojLajf.jpg
END:VEVENT
BEGIN:VEVENT
DTSTART;TZID=Europe/Ljubljana:20230510T080000
DTEND;TZID=Europe/Ljubljana:20230510T130000
DTSTAMP:20260420T093233
CREATED:20230507T124802Z
LAST-MODIFIED:20230507T124802Z
UID:10000066-1683705600-1683723600@www.os-stranje.si
SUMMARY:Tehniški dan za 7. razred: Prestolnica Slovenije
DESCRIPTION:V sredo\, 10. 5. 2023\, bo za 7. razrede potekal Tehniški dan: Prestolnica Slovenije – Jože Plečnik. Več …
URL:https://www.os-stranje.si/dogodek/tehniski-dan-za-7-razred-prestolnica-slovenije/
ATTACH;FMTTYPE=image/jpeg:https://www.os-stranje.si/wp-content/uploads/2023/05/IMG_20190507_101155.jpg
END:VEVENT
BEGIN:VEVENT
DTSTART;TZID=Europe/Ljubljana:20230506T095000
DTEND;TZID=Europe/Ljubljana:20230506T110000
DTSTAMP:20260420T093233
CREATED:20230324T174242Z
LAST-MODIFIED:20230324T174242Z
UID:10000218-1683366600-1683370800@www.os-stranje.si
SUMMARY:Male sive celice - 3. krog
DESCRIPTION:Klara\, Filip in Nace so se v sredo 22. 3. udeležili snemanja v 3. krogu kviza Male sive celice. Kako so se odrezali si oglejte v soboto\, 6. 5.\, ob 9.50 na 1. programu RTV SLO.
URL:https://www.os-stranje.si/dogodek/male-sive-celice-3-krog/
ATTACH;FMTTYPE=image/jpeg:https://www.os-stranje.si/wp-content/uploads/2023/02/IMG_20230215_172002.jpg
END:VEVENT
BEGIN:VEVENT
DTSTART;TZID=Europe/Ljubljana:20230504T073000
DTEND;TZID=Europe/Ljubljana:20230504T150000
DTSTAMP:20260420T093233
CREATED:20230425T200615Z
LAST-MODIFIED:20230425T200615Z
UID:10000064-1683185400-1683212400@www.os-stranje.si
SUMMARY:Športni dan za 7. razred - Bohinj
DESCRIPTION:V četrtek\, 4. 5. 2023\, imajo učenci športni dan v Bohinju. Več ...
URL:https://www.os-stranje.si/dogodek/sportni-dan-za-7-razred-bohinj/
ATTACH;FMTTYPE=image/jpeg:https://www.os-stranje.si/wp-content/uploads/2023/04/20220618_164408.jpg
END:VEVENT
BEGIN:VEVENT
DTSTART;TZID=Europe/Ljubljana:20230419T170000
DTEND;TZID=Europe/Ljubljana:20230419T190000
DTSTAMP:20260420T093233
CREATED:20230415T211215Z
LAST-MODIFIED:20230415T211215Z
UID:10000222-1681923600-1681930800@www.os-stranje.si
SUMMARY:Radi imamo zeleno
DESCRIPTION:19. aprila 2023\, vas med 17.00 in 19.00 uro prisrčno vabimo na spomladansko prireditev z druženjem. Ob druženju bomo zbirali sredstva za šolski sklad. Več …
URL:https://www.os-stranje.si/dogodek/radi-imamo-zeleno/
ATTACH;FMTTYPE=image/jpeg:https://www.os-stranje.si/wp-content/uploads/2023/04/20230311_151221.jpg
END:VEVENT
BEGIN:VEVENT
DTSTART;TZID=Europe/Ljubljana:20230417T082500
DTEND;TZID=Europe/Ljubljana:20230417T133000
DTSTAMP:20260420T093233
CREATED:20230412T131053Z
LAST-MODIFIED:20230412T131104Z
UID:10000221-1681719900-1681738200@www.os-stranje.si
SUMMARY:Kulturni dan za učence šestega in sedmega razreda
DESCRIPTION:Učenci 6. in 7. razredov si bodo v ponedeljek\, 17. aprila\, v SLG Celje ogledali predstavo Kozlovska sodba v Višnji Gori. Več …
URL:https://www.os-stranje.si/dogodek/kulturni-dan-za-ucence-sestega-in-sedmega-razreda/
ATTACH;FMTTYPE=image/jpeg:https://www.os-stranje.si/wp-content/uploads/2023/04/KnjizevniL__09_2.jpg
END:VEVENT
BEGIN:VEVENT
DTSTART;TZID=Europe/Ljubljana:20230408T095000
DTEND;TZID=Europe/Ljubljana:20230408T110000
DTSTAMP:20260420T093233
CREATED:20230220T135216Z
LAST-MODIFIED:20230220T135216Z
UID:10000062-1680947400-1680951600@www.os-stranje.si
SUMMARY:Male sive celice - 2. krog
DESCRIPTION:Učenci naše šole Klara\, Filip in Nace so se v sredo 15. 2. udeležili snemanja v 2. krogu kviza Male sive celice. Kako so se odrezali si oglejte v soboto\, 8. 4.\, ob 9.50 na 1. programu RTV SLO.
URL:https://www.os-stranje.si/dogodek/male-sive-celice-2-krog/
ATTACH;FMTTYPE=image/jpeg:https://www.os-stranje.si/wp-content/uploads/2023/02/IMG_20230215_172002.jpg
END:VEVENT
BEGIN:VEVENT
DTSTART;TZID=Europe/Ljubljana:20230407T073500
DTEND;TZID=Europe/Ljubljana:20230407T082000
DTSTAMP:20260420T093233
CREATED:20230404T175833Z
LAST-MODIFIED:20230404T175833Z
UID:10000220-1680852900-1680855600@www.os-stranje.si
SUMMARY:Sestanek šolske skupnosti za učence od 4. do 9. razreda
DESCRIPTION:Obveščam vas\, da bomo v petek\, 7. 4. 2023\, preduro in 1. šolsko uro  imeli sestanek šolske skupnosti in otroškega parlamenta. \nVabljeni so predstavniki razredov od 4. do 9. razreda. Dobimo se v učilnici KEMIJE.
URL:https://www.os-stranje.si/dogodek/sestanek-solske-skupnosti-za-ucence-od-4-do-9-razreda/
ATTACH;FMTTYPE=image/jpeg:https://www.os-stranje.si/wp-content/uploads/2019/01/nathan-dumlao-572047-unsplash-scaled.jpg
END:VEVENT
BEGIN:VEVENT
DTSTART;TZID=Europe/Ljubljana:20230405T140000
DTEND;TZID=Europe/Ljubljana:20230405T150000
DTSTAMP:20260420T093233
CREATED:20230327T203915Z
LAST-MODIFIED:20230327T203915Z
UID:10000219-1680703200-1680706800@www.os-stranje.si
SUMMARY:Regijsko tekmovanje iz matematike
DESCRIPTION:Na regijskem tekmovanju\, ki bo 5. 4. 2023\, bodo našo šolo zastopali Zoja Gradišek in Matej Slanovec iz 9. razreda\, Filip Maležič in Jošt Golob iz 8. razreda\, Nace Maležič\, Maks Leban\, Val Pogačnik in Edvard Pogačnik iz 7. razreda ter Tadej Uršič\, Kaja Kermavner\, Špela Poljanšek in Jon Dobovšek iz 6. razreda.
URL:https://www.os-stranje.si/dogodek/regijsko-tekmovanje-iz-matematike/
ATTACH;FMTTYPE=image/jpeg:https://www.os-stranje.si/wp-content/uploads/2019/02/antoine-dautry-428780-unsplash-scaled.jpg
END:VEVENT
BEGIN:VEVENT
DTSTART;TZID=Europe/Ljubljana:20230329T083000
DTEND;TZID=Europe/Ljubljana:20230329T124500
DTSTAMP:20260420T093233
CREATED:20230324T173932Z
LAST-MODIFIED:20230324T173932Z
UID:10000217-1680078600-1680093900@www.os-stranje.si
SUMMARY:Regijski otroški parlament
DESCRIPTION:Na OŠ MArtina Krpana v Ljubljani bo potekal regijski otroški parlament na temo Duševno zdravje otrok in mladostnikov.
URL:https://www.os-stranje.si/dogodek/regijski-otroski-parlament/
ATTACH;FMTTYPE=image/jpeg:https://www.os-stranje.si/wp-content/uploads/2023/03/OtroskiParlament2023_007.jpg
END:VEVENT
BEGIN:VEVENT
DTSTART;TZID=Europe/Ljubljana:20230316T082000
DTEND;TZID=Europe/Ljubljana:20230316T130000
DTSTAMP:20260420T093233
CREATED:20230306T185328Z
LAST-MODIFIED:20230306T185905Z
UID:10000214-1678954800-1678971600@www.os-stranje.si
SUMMARY:Športni dan za učence 6. in 9. razreda
DESCRIPTION:Učenci boste imeli v četrtek\, 16. 3. 2023\, športni dan. Celotno dopoldne boste preživeli na različnih športnih dejavnostih v dveh športnih centrih – Squashland (9. razred) in Bit center (6. razred). Več …
URL:https://www.os-stranje.si/dogodek/sportni-dan-za-ucence-6-in-9-razreda-2/
ATTACH;FMTTYPE=image/jpeg:https://www.os-stranje.si/wp-content/uploads/2023/03/sven-mieke-T8FtYThew0w-unsplash.jpg
END:VEVENT
BEGIN:VEVENT
DTSTART;TZID=Europe/Ljubljana:20230313T082000
DTEND;TZID=Europe/Ljubljana:20230313T130000
DTSTAMP:20260420T093233
CREATED:20230306T190044Z
LAST-MODIFIED:20230306T190159Z
UID:10000215-1678695600-1678712400@www.os-stranje.si
SUMMARY:Športni dan za učence 7. in 8. razreda
DESCRIPTION:Učenci boste imeli v ponedeljek\, 13. 3. 2023\, športni dan. Celotno dopoldne boste preživeli na različnih športnih dejavnostih v dveh športnih centrih – Squashland (9. razred) in Bit center (6. razred). Več …
URL:https://www.os-stranje.si/dogodek/sportni-dan-za-ucence-7-in-8-razreda-2/
ATTACH;FMTTYPE=image/jpeg:https://www.os-stranje.si/wp-content/uploads/2023/03/sven-mieke-T8FtYThew0w-unsplash.jpg
END:VEVENT
BEGIN:VEVENT
DTSTART;TZID=Europe/Ljubljana:20230313T070000
DTEND;TZID=Europe/Ljubljana:20230317T130000
DTSTAMP:20260420T093233
CREATED:20230306T214758Z
LAST-MODIFIED:20230306T214758Z
UID:10000216-1678690800-1679058000@www.os-stranje.si
SUMMARY:Teden dejavnosti za učence od 6. do 9. razreda
DESCRIPTION:V tednu med 13. in 17. marcem bomo organizirali dneve dejavnosti za učence od 6. do 9. razreda. Več …
URL:https://www.os-stranje.si/dogodek/teden-dejavnosti-za-ucence-od-6-do-9-razreda/
ATTACH;FMTTYPE=image/jpeg:https://www.os-stranje.si/wp-content/uploads/2023/03/Idrija30.jpg
END:VEVENT
BEGIN:VEVENT
DTSTART;TZID=Europe/Ljubljana:20230228T073500
DTEND;TZID=Europe/Ljubljana:20230228T082000
DTSTAMP:20260420T093233
CREATED:20230227T140325Z
LAST-MODIFIED:20230227T140325Z
UID:10000063-1677569700-1677572400@www.os-stranje.si
SUMMARY:Sestanek šolske skupnosti za učence od 6. do 9. razreda
DESCRIPTION:Sestanek šolske skupnosti bo v torek\, 28. 2.\, v času predure\, za predstavnike učencev od 6. do 9. razreda v učilnici TEHNIKE.
URL:https://www.os-stranje.si/dogodek/sestanek-solske-skupnosti-za-ucence-od-6-do-9-razreda/
ATTACH;FMTTYPE=image/jpeg:https://www.os-stranje.si/wp-content/uploads/2019/01/nathan-dumlao-572047-unsplash-scaled.jpg
END:VEVENT
BEGIN:VEVENT
DTSTART;TZID=Europe/Ljubljana:20230224T073500
DTEND;TZID=Europe/Ljubljana:20230224T091000
DTSTAMP:20260420T093233
CREATED:20230220T134351Z
LAST-MODIFIED:20230220T134351Z
UID:10000061-1677224100-1677229800@www.os-stranje.si
SUMMARY:Sestanek otroškega parlamenta za učence od 6. do 9. razreda
DESCRIPTION:Sestanek otroškega parlamenta bo v petek\, 24. 2.\, preduro in 1. šolsko uro\, za predstavnike učencev od 6. do 9. razreda v učilnici KEMIJE.
URL:https://www.os-stranje.si/dogodek/sestanek-otroskega-parlamenta-za-ucence-od-6-do-9-razreda/
ATTACH;FMTTYPE=image/jpeg:https://www.os-stranje.si/wp-content/uploads/2019/01/nathan-dumlao-572047-unsplash-scaled.jpg
END:VEVENT
BEGIN:VEVENT
DTSTART;TZID=Europe/Ljubljana:20230213T074500
DTEND;TZID=Europe/Ljubljana:20230213T170000
DTSTAMP:20260420T093233
CREATED:20230207T091104Z
LAST-MODIFIED:20230211T172904Z
UID:10000060-1676274300-1676307600@www.os-stranje.si
SUMMARY:Zimski športni dan za učence od 6. do 9. razreda
DESCRIPTION:V ponedeljek\, 13. 2. 2023\, bo potekal zimski športni dan za učence od 6. do 9. razreda. Več …
URL:https://www.os-stranje.si/dogodek/zimski-sportni-dan-za-ucence-6-in-9-razreda/
ATTACH;FMTTYPE=image/jpeg:https://www.os-stranje.si/wp-content/uploads/2023/02/adam-chang-IWenq-4JHqo-unsplash.jpg
END:VEVENT
BEGIN:VEVENT
DTSTART;TZID=Europe/Ljubljana:20230204T095500
DTEND;TZID=Europe/Ljubljana:20230204T110000
DTSTAMP:20260420T093233
CREATED:20221216T113029Z
LAST-MODIFIED:20230203T205957Z
UID:10000057-1675504500-1675508400@www.os-stranje.si
SUMMARY:Male sive celice
DESCRIPTION:V današnji oddaji Male sive celice nastopajo učenci naše šole\, Klara\, Filip in Nace\, proti učencem OŠ Vita Kraigherja Ljubljana. Vabljeni k ogledu na prvem programu RTV SLO.
URL:https://www.os-stranje.si/dogodek/male-sive-celice/
ATTACH;FMTTYPE=image/jpeg:https://www.os-stranje.si/wp-content/uploads/2022/12/MSC_20221512_001.jpg
END:VEVENT
BEGIN:VEVENT
DTSTART;TZID=Europe/Ljubljana:20230202T073500
DTEND;TZID=Europe/Ljubljana:20230202T082000
DTSTAMP:20260420T093233
CREATED:20230130T200624Z
LAST-MODIFIED:20230130T200624Z
UID:10000059-1675323300-1675326000@www.os-stranje.si
SUMMARY:4. srečanje šolske skupnosti
DESCRIPTION:Obveščam vas\, da bo 4. sestanek šolske skupnosti bo v četrtek\, 2. 2.\, v času predure v učilnici GLASBE. Srečanja naj se udeležijo predstavniki od 4. do 9. razreda.
URL:https://www.os-stranje.si/dogodek/4-srecanje-solske-skupnosti/
ATTACH;FMTTYPE=image/jpeg:https://www.os-stranje.si/wp-content/uploads/2019/01/nathan-dumlao-572047-unsplash-scaled.jpg
END:VEVENT
BEGIN:VEVENT
DTSTART;TZID=Europe/Ljubljana:20230119T073500
DTEND;TZID=Europe/Ljubljana:20230119T091000
DTSTAMP:20260420T093233
CREATED:20230109T105521Z
LAST-MODIFIED:20230117T140850Z
UID:10000058-1674113700-1674119400@www.os-stranje.si
SUMMARY:3. srečanje šolske skupnosti in otroškega parlamenta
DESCRIPTION:Obveščam vas\, da bo 3. sestanek šolske skupnosti in otroškega parlamenta v četrtek\, 19. 1\, v času predure in 1. šolske ure v učilnici GLASBE. \nV času predure se sestanka udeležijo vsi predstavniki razredov od 4. do 9. razreda\, v času 1. ure pa le predstavniki učencev od 7. do 9. razreda.
URL:https://www.os-stranje.si/dogodek/3-srecanje-solske-skupnosti-in-otroskega-parlamenta/
ATTACH;FMTTYPE=image/jpeg:https://www.os-stranje.si/wp-content/uploads/2019/01/nathan-dumlao-572047-unsplash-scaled.jpg
END:VEVENT
BEGIN:VEVENT
DTSTART;TZID=Europe/Ljubljana:20221213T180000
DTEND;TZID=Europe/Ljubljana:20221213T193000
DTSTAMP:20260420T093233
CREATED:20221205T094607Z
LAST-MODIFIED:20221205T094607Z
UID:10000056-1670954400-1670959800@www.os-stranje.si
SUMMARY:Praznična prireditev učencev OŠ Stranje
DESCRIPTION:
URL:https://www.os-stranje.si/dogodek/praznicna-prireditev-ucencev-os-stranje/
END:VEVENT
END:VCALENDAR