BEGIN:VCALENDAR
VERSION:2.0
PRODID:-//Osnovna šola Stranje - ECPv6.15.11//NONSGML v1.0//EN
CALSCALE:GREGORIAN
METHOD:PUBLISH
X-WR-CALNAME:Osnovna šola Stranje
X-ORIGINAL-URL:https://www.os-stranje.si
X-WR-CALDESC:Dogodki za Osnovna šola Stranje
REFRESH-INTERVAL;VALUE=DURATION:PT1H
X-Robots-Tag:noindex
X-PUBLISHED-TTL:PT1H
BEGIN:VTIMEZONE
TZID:Europe/Ljubljana
BEGIN:DAYLIGHT
TZOFFSETFROM:+0100
TZOFFSETTO:+0200
TZNAME:CEST
DTSTART:20220327T010000
END:DAYLIGHT
BEGIN:STANDARD
TZOFFSETFROM:+0200
TZOFFSETTO:+0100
TZNAME:CET
DTSTART:20221030T010000
END:STANDARD
BEGIN:DAYLIGHT
TZOFFSETFROM:+0100
TZOFFSETTO:+0200
TZNAME:CEST
DTSTART:20230326T010000
END:DAYLIGHT
BEGIN:STANDARD
TZOFFSETFROM:+0200
TZOFFSETTO:+0100
TZNAME:CET
DTSTART:20231029T010000
END:STANDARD
BEGIN:DAYLIGHT
TZOFFSETFROM:+0100
TZOFFSETTO:+0200
TZNAME:CEST
DTSTART:20240331T010000
END:DAYLIGHT
BEGIN:STANDARD
TZOFFSETFROM:+0200
TZOFFSETTO:+0100
TZNAME:CET
DTSTART:20241027T010000
END:STANDARD
END:VTIMEZONE
BEGIN:VEVENT
DTSTART;TZID=Europe/Ljubljana:20231116T080000
DTEND;TZID=Europe/Ljubljana:20231117T130000
DTSTAMP:20260422T234808
CREATED:20231026T123926Z
LAST-MODIFIED:20231026T123926Z
UID:10000082-1700121600-1700226000@www.os-stranje.si
SUMMARY:Zbiralna akcija odpadnega papirja
DESCRIPTION:V mesecu NOVEMBRU bo na naši šoli potekala ZBIRALNA AKCIJA ODPADNEGA PAPIRJA. \nAkcija bo potekala v ČETRTEK\, 16. 11. 2023 (od 8. do 15. ure) in v PETEK\, 17. 11. 2023 (od 8. do 13. ure)\nna parkirišču pri gasilskem domu. \nV zabojnik sodijo: \n\nčasopisi\, revije\, knjige\,\nprospekti\, katalogi\, zvezki\,\narhivski papir.\n\nPrineseni papir odvrzite v zabojnik. \nTokrat bo ponovno potekalo tudi medrazredno tekmovanje v količini zbranega papirja. Zmagovalni razred čaka lepa nagrada. \nHVALA vam za vsak kilogram.\nPetra Vrhovnik
URL:https://www.os-stranje.si/dogodek/zbiralna-akcija-odpadnega-papirja-6/
ATTACH;FMTTYPE=image/jpeg:https://www.os-stranje.si/wp-content/uploads/2019/03/denny-muller-534086-unsplash.jpg
END:VEVENT
END:VCALENDAR