BEGIN:VCALENDAR
VERSION:2.0
PRODID:-//Osnovna šola Stranje - ECPv6.15.11//NONSGML v1.0//EN
CALSCALE:GREGORIAN
METHOD:PUBLISH
X-WR-CALNAME:Osnovna šola Stranje
X-ORIGINAL-URL:https://www.os-stranje.si
X-WR-CALDESC:Dogodki za Osnovna šola Stranje
REFRESH-INTERVAL;VALUE=DURATION:PT1H
X-Robots-Tag:noindex
X-PUBLISHED-TTL:PT1H
BEGIN:VTIMEZONE
TZID:Europe/Ljubljana
BEGIN:DAYLIGHT
TZOFFSETFROM:+0100
TZOFFSETTO:+0200
TZNAME:CEST
DTSTART:20210328T010000
END:DAYLIGHT
BEGIN:STANDARD
TZOFFSETFROM:+0200
TZOFFSETTO:+0100
TZNAME:CET
DTSTART:20211031T010000
END:STANDARD
BEGIN:DAYLIGHT
TZOFFSETFROM:+0100
TZOFFSETTO:+0200
TZNAME:CEST
DTSTART:20220327T010000
END:DAYLIGHT
BEGIN:STANDARD
TZOFFSETFROM:+0200
TZOFFSETTO:+0100
TZNAME:CET
DTSTART:20221030T010000
END:STANDARD
BEGIN:DAYLIGHT
TZOFFSETFROM:+0100
TZOFFSETTO:+0200
TZNAME:CEST
DTSTART:20230326T010000
END:DAYLIGHT
BEGIN:STANDARD
TZOFFSETFROM:+0200
TZOFFSETTO:+0100
TZNAME:CET
DTSTART:20231029T010000
END:STANDARD
BEGIN:DAYLIGHT
TZOFFSETFROM:+0100
TZOFFSETTO:+0200
TZNAME:CEST
DTSTART:20240331T010000
END:DAYLIGHT
BEGIN:STANDARD
TZOFFSETFROM:+0200
TZOFFSETTO:+0100
TZNAME:CET
DTSTART:20241027T010000
END:STANDARD
BEGIN:DAYLIGHT
TZOFFSETFROM:+0100
TZOFFSETTO:+0200
TZNAME:CEST
DTSTART:20250330T010000
END:DAYLIGHT
BEGIN:STANDARD
TZOFFSETFROM:+0200
TZOFFSETTO:+0100
TZNAME:CET
DTSTART:20251026T010000
END:STANDARD
BEGIN:DAYLIGHT
TZOFFSETFROM:+0100
TZOFFSETTO:+0200
TZNAME:CEST
DTSTART:20260329T010000
END:DAYLIGHT
BEGIN:STANDARD
TZOFFSETFROM:+0200
TZOFFSETTO:+0100
TZNAME:CET
DTSTART:20261025T010000
END:STANDARD
END:VTIMEZONE
BEGIN:VEVENT
DTSTART;TZID=Europe/Ljubljana:20251111T080000
DTEND;TZID=Europe/Ljubljana:20251112T133000
DTSTAMP:20260420T145741
CREATED:20251103T133004Z
LAST-MODIFIED:20251103T133004Z
UID:10000295-1762848000-1762954200@www.os-stranje.si
SUMMARY:Zbiralna akcija odpadnega papirja
DESCRIPTION:Akcija zbiranja odpadnega papirja bo potekala v TOREK\, 11. 11. 2025 (od 8. do 15. ure) in v SREDO\, 12. 11. 2025 (od 8. do 13. ure) na parkirišču pri gasilskem domu. \nV zabojnik sodijo: \n\nčasopisi\, revije\, knjige\,\nprospekti\, katalogi\, zvezki\,\narhivski papir.\n\nPrineseni papir odvrzite v zabojnik. \nPotekalo bo tudi medrazredno tekmovanje v količini zbranega papirja. Zmagovalni razred obeh zbiralnih akcij (tokrane in tiste\, ki bo ob koncu šolskega leta) čaka lepa nagrada. \nHVALA VAM.\nInes Novak
URL:https://www.os-stranje.si/dogodek/zbiralna-akcija-odpadnega-papirja-10/
ATTACH;FMTTYPE=image/jpeg:https://www.os-stranje.si/wp-content/uploads/2019/03/denny-muller-534086-unsplash.jpg
END:VEVENT
BEGIN:VEVENT
DTSTART;TZID=Europe/Ljubljana:20250520T080000
DTEND;TZID=Europe/Ljubljana:20250521T130000
DTSTAMP:20260420T145741
CREATED:20250512T183731Z
LAST-MODIFIED:20250512T184645Z
UID:10000128-1747728000-1747832400@www.os-stranje.si
SUMMARY:Zbiralna akcija odpadnega papirja
DESCRIPTION:Spoštovani starši in učenci. \nV naslednjem tednu bo na naši šoli potekala ZBIRALNA AKCIJA ODPADNEGA PAPIRJA. \nAkcija bo potekala v TOREK\, 20. 5. 2025 (od 8. do 15. ure) in v SREDO\, 21. 5. 2025 (od 8. do 13. ure) na parkirišču pri gasilskem domu. \nŠe vedno poteka medrazredno tekmovanje v količini zbranega papirja. Rezultati tokratne zbiralne akcije se bodo prišteli k rezultatu prve zbiralne akcije\, ki je bila v mesecu novembru.\nZmagovalni razred čaka lepa nagrada. \nPotrudimo se\, da čim bolj napolnimo zabojnik. \nHVALA vam za vsak kilogram. \nPetra Vrhovnik
URL:https://www.os-stranje.si/dogodek/zbiralna-akcija-odpadnega-papirja-9/
ATTACH;FMTTYPE=image/jpeg:https://www.os-stranje.si/wp-content/uploads/2019/03/denny-muller-534086-unsplash.jpg
END:VEVENT
BEGIN:VEVENT
DTSTART;TZID=Europe/Ljubljana:20241126T080000
DTEND;TZID=Europe/Ljubljana:20241127T130000
DTSTAMP:20260420T145741
CREATED:20241027T203457Z
LAST-MODIFIED:20241027T203457Z
UID:10000113-1732608000-1732712400@www.os-stranje.si
SUMMARY:Zbiralna akcija odpadnega papirja
DESCRIPTION:V mesecu NOVEMBRU bo na naši šoli potekala ZBIRALNA AKCIJA ODPADNEGA PAPIRJA. \nAkcija bo potekala v TOREK\, 26. 11. 2024 (od 8. do 15. ure) in v SREDO\, 27. 11. 2024 (od 8. do 13. ure) na parkirišču pri gasilskem domu. \nV zabojnik sodijo: \n\nčasopisi\, revije\, knjige\,\nprospekti\, katalogi\, zvezki\,\narhivski papir.\n\nPrineseni papir odvrzite v zabojnik. \nTokrat bo ponovno potekalo tudi medrazredno tekmovanje v količini zbranega papirja. Zmagovalni razred čaka lepa nagrada. \nHVALA vam za vsak kilogram. \nPetra Vrhovnik
URL:https://www.os-stranje.si/dogodek/zbiralna-akcija-odpadnega-papirja-8/
ATTACH;FMTTYPE=image/jpeg:https://www.os-stranje.si/wp-content/uploads/2019/11/StarPapir.jpg
END:VEVENT
BEGIN:VEVENT
DTSTART;TZID=Europe/Ljubljana:20240529T080000
DTEND;TZID=Europe/Ljubljana:20240530T130000
DTSTAMP:20260420T145741
CREATED:20240502T214221Z
LAST-MODIFIED:20250512T184622Z
UID:10000094-1716969600-1717074000@www.os-stranje.si
SUMMARY:Zbiralna akcija odpadnega papirja
DESCRIPTION:V mesecu maju bo na naši šoli potekala ZBIRALNA AKCIJA ODPADNEGA PAPIRJA. \nAkcija bo potekala v SREDO\, 29. 5. 2024 (od 8. do 15. ure) in v ČETRTEK\, 30. 5. 2024 (od 8. do 13. ure) na parkirišču pri gasilskem domu. \nŠe vedno poteka medrazredno tekmovanje v količini zbranega papirja. Rezultati tokratne zbiralne akcije se bodo prišteli k rezultatu prve zbiralne akcije\, ki je bila v mesecu novembru.\nZmagovalni razred čaka lepa nagrada. \nPotrudimo se\, da čim bolj napolnimo zabojnik. \nHVALA vam za vsak kilogram. \nPetra Vrhovnik
URL:https://www.os-stranje.si/dogodek/zbiralna-akcija-odpadnega-papirja-7/
ATTACH;FMTTYPE=image/jpeg:https://www.os-stranje.si/wp-content/uploads/2019/03/denny-muller-534086-unsplash.jpg
END:VEVENT
BEGIN:VEVENT
DTSTART;TZID=Europe/Ljubljana:20220616T080000
DTEND;TZID=Europe/Ljubljana:20220616T130000
DTSTAMP:20260420T145741
CREATED:20220531T121559Z
LAST-MODIFIED:20220531T121559Z
UID:10000050-1655366400-1655384400@www.os-stranje.si
SUMMARY:Zbiralna akcija odpadnega papirja
DESCRIPTION:ZBIRALNA AKCIJA ODPADNEGA PAPIRJA bo potekala v SREDO\, 15. 6. 2022 (od 8. do 15. ure) in v ČETRTEK\, 16. 6. 2022 (od 8. do 13. ure) na parkirišču pri gasilskem domu. Več …
URL:https://www.os-stranje.si/dogodek/zbiralna-akcija-odpadnega-papirja-4/
ATTACH;FMTTYPE=image/jpeg:https://www.os-stranje.si/wp-content/uploads/2019/11/StarPapir.jpg
END:VEVENT
END:VCALENDAR