BEGIN:VCALENDAR
VERSION:2.0
PRODID:-//Osnovna šola Stranje - ECPv6.15.11//NONSGML v1.0//EN
CALSCALE:GREGORIAN
METHOD:PUBLISH
X-WR-CALNAME:Osnovna šola Stranje
X-ORIGINAL-URL:https://www.os-stranje.si
X-WR-CALDESC:Dogodki za Osnovna šola Stranje
REFRESH-INTERVAL;VALUE=DURATION:PT1H
X-Robots-Tag:noindex
X-PUBLISHED-TTL:PT1H
BEGIN:VTIMEZONE
TZID:Europe/Ljubljana
BEGIN:DAYLIGHT
TZOFFSETFROM:+0100
TZOFFSETTO:+0200
TZNAME:CEST
DTSTART:20200329T010000
END:DAYLIGHT
BEGIN:STANDARD
TZOFFSETFROM:+0200
TZOFFSETTO:+0100
TZNAME:CET
DTSTART:20201025T010000
END:STANDARD
BEGIN:DAYLIGHT
TZOFFSETFROM:+0100
TZOFFSETTO:+0200
TZNAME:CEST
DTSTART:20210328T010000
END:DAYLIGHT
BEGIN:STANDARD
TZOFFSETFROM:+0200
TZOFFSETTO:+0100
TZNAME:CET
DTSTART:20211031T010000
END:STANDARD
BEGIN:DAYLIGHT
TZOFFSETFROM:+0100
TZOFFSETTO:+0200
TZNAME:CEST
DTSTART:20220327T010000
END:DAYLIGHT
BEGIN:STANDARD
TZOFFSETFROM:+0200
TZOFFSETTO:+0100
TZNAME:CET
DTSTART:20221030T010000
END:STANDARD
END:VTIMEZONE
BEGIN:VEVENT
DTSTART;TZID=Europe/Ljubljana:20210609T080000
DTEND;TZID=Europe/Ljubljana:20210609T140000
DTSTAMP:20260424T173825
CREATED:20210605T082359Z
LAST-MODIFIED:20210605T082359Z
UID:10000180-1623225600-1623247200@www.os-stranje.si
SUMMARY:Zbiralna akcija starega papirja na podružnični šoli Gozd
DESCRIPTION:Obveščamo vas\, da bomo v sredo\, 9. junija\, od 8.00 do 14.00 na podružnici Gozd zbirali star papir. Več … \n 
URL:https://www.os-stranje.si/dogodek/zbiralna-akcija-starega-papirja-na-podruznicni-soli-gozd/
END:VEVENT
END:VCALENDAR