BEGIN:VCALENDAR
VERSION:2.0
PRODID:-//Osnovna šola Stranje - ECPv6.15.11//NONSGML v1.0//EN
CALSCALE:GREGORIAN
METHOD:PUBLISH
X-WR-CALNAME:Osnovna šola Stranje
X-ORIGINAL-URL:https://www.os-stranje.si
X-WR-CALDESC:Dogodki za Osnovna šola Stranje
REFRESH-INTERVAL;VALUE=DURATION:PT1H
X-Robots-Tag:noindex
X-PUBLISHED-TTL:PT1H
BEGIN:VTIMEZONE
TZID:Europe/Ljubljana
BEGIN:DAYLIGHT
TZOFFSETFROM:+0100
TZOFFSETTO:+0200
TZNAME:CEST
DTSTART:20230326T010000
END:DAYLIGHT
BEGIN:STANDARD
TZOFFSETFROM:+0200
TZOFFSETTO:+0100
TZNAME:CET
DTSTART:20231029T010000
END:STANDARD
BEGIN:DAYLIGHT
TZOFFSETFROM:+0100
TZOFFSETTO:+0200
TZNAME:CEST
DTSTART:20240331T010000
END:DAYLIGHT
BEGIN:STANDARD
TZOFFSETFROM:+0200
TZOFFSETTO:+0100
TZNAME:CET
DTSTART:20241027T010000
END:STANDARD
BEGIN:DAYLIGHT
TZOFFSETFROM:+0100
TZOFFSETTO:+0200
TZNAME:CEST
DTSTART:20250330T010000
END:DAYLIGHT
BEGIN:STANDARD
TZOFFSETFROM:+0200
TZOFFSETTO:+0100
TZNAME:CET
DTSTART:20251026T010000
END:STANDARD
END:VTIMEZONE
BEGIN:VEVENT
DTSTART;TZID=Europe/Ljubljana:20241010T082000
DTEND;TZID=Europe/Ljubljana:20241010T130000
DTSTAMP:20260420T062459
CREATED:20240929T225702Z
LAST-MODIFIED:20240929T195815Z
UID:10000106-1728548400-1728565200@www.os-stranje.si
SUMMARY:Športni dan za učence 7. in 8. razreda
DESCRIPTION:Učenci boste imeli v četrtek\, 10. 10. 2024\, športni dan. Zbor je ob 8.20 pred šolo\, kjer boste vzeli malico. \nOdhod avtobusa je ob 8.25. \nCelotno dopoldne boste preživeli na različnih športnih dejavnostih v dveh športnih centrih-  Squashland (8. razred) in Bit center (7. razred).  \nStroški vaditeljev in prevoza znašajo 16 eurov. Vse stroške boste poravnali s plačilom položnice. \nPredviden povratek v Kamnik je okrog 13. ure. Na kosilo se je treba prijaviti do petka\, 4. oktobra. \nS SEBOJ IMEJTE: manjši nahrbtnik\, športna oblačila\, čiste športne (ni treba kupovati novih) ali telovadne copate\, vodo. \nOPOZORILO:  Uporaba mobilnih telefonov in ostalih glasbenih predvajalnikov je določena s pravili hišnega reda; med vožnjo so mobiteli v nahrbtnikih\, le-ti pa v prtljažniku avtobusa. \nNe pozabimo na športnemu dnevu primerno vedenje. \nUčitelji športa
URL:https://www.os-stranje.si/dogodek/sportni-dan-za-ucence-7-in-8-razreda-3/
ATTACH;FMTTYPE=image/jpeg:https://www.os-stranje.si/wp-content/uploads/2023/03/sven-mieke-T8FtYThew0w-unsplash.jpg
END:VEVENT
BEGIN:VEVENT
DTSTART;TZID=Europe/Ljubljana:20241007T082000
DTEND;TZID=Europe/Ljubljana:20241007T130000
DTSTAMP:20260420T062459
CREATED:20240929T224929Z
LAST-MODIFIED:20240929T195535Z
UID:10000105-1728289200-1728306000@www.os-stranje.si
SUMMARY:Športni dan za učence 6. in 9. razreda
DESCRIPTION:Učenci boste imeli v ponedeljek\, 7. 10. 2024\, športni dan. Zbor je ob 8.20 pred šolo\, kjer boste vzeli malico. \nOdhod avtobusa je ob 8.25. \nCelotno dopoldne boste preživeli na različnih športnih dejavnostih v dveh športnih centrih-  Squashland (9. razred) in Bit center (6. razred).  \nStroški vaditeljev in prevoza znašajo 16 eurov. Vse stroške boste poravnali s plačilom položnice. \nPredviden povratek v Kamnik je okrog 13. ure. Na kosilo se je treba prijaviti do petka\, 4. oktobra. \nS SEBOJ IMEJTE: manjši nahrbtnik\, športna oblačila\, čiste športne (ni treba kupovati novih) ali telovadne copate\, vodo. \nOPOZORILO:  Uporaba mobilnih telefonov in ostalih glasbenih predvajalnikov je določena s pravili hišnega reda; med vožnjo so mobiteli v nahrbtnikih\, le-ti pa v prtljažniku avtobusa. \nNe pozabimo na športnemu dnevu primerno vedenje. \nUčitelji športa
URL:https://www.os-stranje.si/dogodek/sportni-dan-za-ucence-6-in-9-razreda-3/
ATTACH;FMTTYPE=image/jpeg:https://www.os-stranje.si/wp-content/uploads/2023/03/sven-mieke-T8FtYThew0w-unsplash.jpg
END:VEVENT
END:VCALENDAR