BEGIN:VCALENDAR
VERSION:2.0
PRODID:-//Osnovna šola Stranje - ECPv6.15.11//NONSGML v1.0//EN
CALSCALE:GREGORIAN
METHOD:PUBLISH
X-WR-CALNAME:Osnovna šola Stranje
X-ORIGINAL-URL:https://www.os-stranje.si
X-WR-CALDESC:Dogodki za Osnovna šola Stranje
REFRESH-INTERVAL;VALUE=DURATION:PT1H
X-Robots-Tag:noindex
X-PUBLISHED-TTL:PT1H
BEGIN:VTIMEZONE
TZID:Europe/Ljubljana
BEGIN:DAYLIGHT
TZOFFSETFROM:+0100
TZOFFSETTO:+0200
TZNAME:CEST
DTSTART:20200329T010000
END:DAYLIGHT
BEGIN:STANDARD
TZOFFSETFROM:+0200
TZOFFSETTO:+0100
TZNAME:CET
DTSTART:20201025T010000
END:STANDARD
BEGIN:DAYLIGHT
TZOFFSETFROM:+0100
TZOFFSETTO:+0200
TZNAME:CEST
DTSTART:20210328T010000
END:DAYLIGHT
BEGIN:STANDARD
TZOFFSETFROM:+0200
TZOFFSETTO:+0100
TZNAME:CET
DTSTART:20211031T010000
END:STANDARD
BEGIN:DAYLIGHT
TZOFFSETFROM:+0100
TZOFFSETTO:+0200
TZNAME:CEST
DTSTART:20220327T010000
END:DAYLIGHT
BEGIN:STANDARD
TZOFFSETFROM:+0200
TZOFFSETTO:+0100
TZNAME:CET
DTSTART:20221030T010000
END:STANDARD
END:VTIMEZONE
BEGIN:VEVENT
DTSTART;TZID=Europe/Ljubljana:20210923T080000
DTEND;TZID=Europe/Ljubljana:20210923T130000
DTSTAMP:20260424T130410
CREATED:20210913T202840Z
LAST-MODIFIED:20210921T173850Z
UID:10000187-1632384000-1632402000@www.os-stranje.si
SUMMARY:Športni dan 6.-9. razred - Pohod
DESCRIPTION:V četrtek\, 23. 9. 2021\, bodo imeli učenci od 6. do 9. razreda športni dan – Pohod. \nSmeri pohodov:\n6. RAZRED – Smer pohoda: šola – sv. Ana v Tunjicah – šola\n7. RAZRED – Smer pohoda: šola – Taravne – šola\n8. RAZRED – Smer pohoda: šola – Šenturška Gora – šola\n9. RAZRED – Smer pohoda: šola – Oševek – šola \nUre odhodov:\n6. a ob 8.25\, 6. b ob 8.27\, 6. c ob 8.29\n7. a ob 8.31\, 7. b ob 8.33\n8. a ob 8.35\, 8. b ob 8.37\n9. a ob 8.39\, 9. b ob 8.41 \nOprema:\n– oblačila (majica\, kratke hlače\, trenirka ali pohodne hlače\, pulover\, vetrovka\, rezervna majica)\,\n– pohodni čevlji (visoki ali nizki)\,\n– nahrbtnik\,\n– dežnik\,\n– malica (sendvič\, sok); dobite jo tudi v šoli. \nNUJNO:\n– zaščita proti klopom\,\n– zdravila proti alergiji na cvetni prah. \nOPOZORILO: Za kosilo se je potrebno prijaviti v tajništvu najkasneje do četrtka\, 23. 9. 2021\, do 8 ure zjutraj! \nV primeru slabega vremena imamo pouk po urniku. \n  \n  \n 
URL:https://www.os-stranje.si/dogodek/sportni-dan-6-9-razred-pohod/
ATTACH;FMTTYPE=image/jpeg:https://www.os-stranje.si/wp-content/uploads/2020/04/lauren-york-qF0exp1YCS8-unsplash-scaled.jpg
END:VEVENT
BEGIN:VEVENT
DTSTART;TZID=Europe/Ljubljana:20210602T082500
DTEND;TZID=Europe/Ljubljana:20210602T130000
DTSTAMP:20260424T130410
CREATED:20210531T185113Z
LAST-MODIFIED:20210531T185246Z
UID:10000179-1622622300-1622638800@www.os-stranje.si
SUMMARY:Športni dan za učence od 6. do 9. razreda - POHOD
DESCRIPTION:V sredo\, 2. 6. 2021\, bo za učence potekal športni dan – POHOD. Več …
URL:https://www.os-stranje.si/dogodek/sportni-dan-za-ucence-od-6-do-9-razreda-pohod-2/
ATTACH;FMTTYPE=image/jpeg:https://www.os-stranje.si/wp-content/uploads/2019/07/viktor-forgacs-9UmBEfc2OUQ-unsplash-scaled.jpg
END:VEVENT
END:VCALENDAR