BEGIN:VCALENDAR
VERSION:2.0
PRODID:-//Osnovna šola Stranje - ECPv6.15.11//NONSGML v1.0//EN
CALSCALE:GREGORIAN
METHOD:PUBLISH
X-WR-CALNAME:Osnovna šola Stranje
X-ORIGINAL-URL:https://www.os-stranje.si
X-WR-CALDESC:Dogodki za Osnovna šola Stranje
REFRESH-INTERVAL;VALUE=DURATION:PT1H
X-Robots-Tag:noindex
X-PUBLISHED-TTL:PT1H
BEGIN:VTIMEZONE
TZID:Europe/Ljubljana
BEGIN:DAYLIGHT
TZOFFSETFROM:+0100
TZOFFSETTO:+0200
TZNAME:CEST
DTSTART:20200329T010000
END:DAYLIGHT
BEGIN:STANDARD
TZOFFSETFROM:+0200
TZOFFSETTO:+0100
TZNAME:CET
DTSTART:20201025T010000
END:STANDARD
BEGIN:DAYLIGHT
TZOFFSETFROM:+0100
TZOFFSETTO:+0200
TZNAME:CEST
DTSTART:20210328T010000
END:DAYLIGHT
BEGIN:STANDARD
TZOFFSETFROM:+0200
TZOFFSETTO:+0100
TZNAME:CET
DTSTART:20211031T010000
END:STANDARD
BEGIN:DAYLIGHT
TZOFFSETFROM:+0100
TZOFFSETTO:+0200
TZNAME:CEST
DTSTART:20220327T010000
END:DAYLIGHT
BEGIN:STANDARD
TZOFFSETFROM:+0200
TZOFFSETTO:+0100
TZNAME:CET
DTSTART:20221030T010000
END:STANDARD
END:VTIMEZONE
BEGIN:VEVENT
DTSTART;TZID=Europe/Ljubljana:20210614T082500
DTEND;TZID=Europe/Ljubljana:20210614T130000
DTSTAMP:20260424T173846
CREATED:20210609T123122Z
LAST-MODIFIED:20210609T123122Z
UID:10000181-1623659100-1623675600@www.os-stranje.si
SUMMARY:Športni dan za 9. razred - Izbirne vsebine
DESCRIPTION:V ponedeljek\, 14. 6. 2021\, bo na sporedu športni dan za 9. razrede. Več …
URL:https://www.os-stranje.si/dogodek/sportni-dan-za-9-razred-izbirne-vsebine/
ATTACH;FMTTYPE=image/jpeg:https://www.os-stranje.si/wp-content/uploads/2019/05/robert-collins-333411-unsplash-scaled.jpg
END:VEVENT
END:VCALENDAR