BEGIN:VCALENDAR
VERSION:2.0
PRODID:-//Osnovna šola Stranje - ECPv6.15.11//NONSGML v1.0//EN
CALSCALE:GREGORIAN
METHOD:PUBLISH
X-WR-CALNAME:Osnovna šola Stranje
X-ORIGINAL-URL:https://www.os-stranje.si
X-WR-CALDESC:Dogodki za Osnovna šola Stranje
REFRESH-INTERVAL;VALUE=DURATION:PT1H
X-Robots-Tag:noindex
X-PUBLISHED-TTL:PT1H
BEGIN:VTIMEZONE
TZID:Europe/Ljubljana
BEGIN:DAYLIGHT
TZOFFSETFROM:+0100
TZOFFSETTO:+0200
TZNAME:CEST
DTSTART:20180325T010000
END:DAYLIGHT
BEGIN:STANDARD
TZOFFSETFROM:+0200
TZOFFSETTO:+0100
TZNAME:CET
DTSTART:20181028T010000
END:STANDARD
BEGIN:DAYLIGHT
TZOFFSETFROM:+0100
TZOFFSETTO:+0200
TZNAME:CEST
DTSTART:20190331T010000
END:DAYLIGHT
BEGIN:STANDARD
TZOFFSETFROM:+0200
TZOFFSETTO:+0100
TZNAME:CET
DTSTART:20191027T010000
END:STANDARD
BEGIN:DAYLIGHT
TZOFFSETFROM:+0100
TZOFFSETTO:+0200
TZNAME:CEST
DTSTART:20200329T010000
END:DAYLIGHT
BEGIN:STANDARD
TZOFFSETFROM:+0200
TZOFFSETTO:+0100
TZNAME:CET
DTSTART:20201025T010000
END:STANDARD
BEGIN:DAYLIGHT
TZOFFSETFROM:+0100
TZOFFSETTO:+0200
TZNAME:CEST
DTSTART:20210328T010000
END:DAYLIGHT
BEGIN:STANDARD
TZOFFSETFROM:+0200
TZOFFSETTO:+0100
TZNAME:CET
DTSTART:20211031T010000
END:STANDARD
BEGIN:DAYLIGHT
TZOFFSETFROM:+0100
TZOFFSETTO:+0200
TZNAME:CEST
DTSTART:20220327T010000
END:DAYLIGHT
BEGIN:STANDARD
TZOFFSETFROM:+0200
TZOFFSETTO:+0100
TZNAME:CET
DTSTART:20221030T010000
END:STANDARD
BEGIN:DAYLIGHT
TZOFFSETFROM:+0100
TZOFFSETTO:+0200
TZNAME:CEST
DTSTART:20230326T010000
END:DAYLIGHT
BEGIN:STANDARD
TZOFFSETFROM:+0200
TZOFFSETTO:+0100
TZNAME:CET
DTSTART:20231029T010000
END:STANDARD
END:VTIMEZONE
BEGIN:VEVENT
DTSTART;TZID=Europe/Ljubljana:20221124T073500
DTEND;TZID=Europe/Ljubljana:20221124T082000
DTSTAMP:20260423T053308
CREATED:20221121T223114Z
LAST-MODIFIED:20221121T223114Z
UID:10000055-1669275300-1669278000@www.os-stranje.si
SUMMARY:3. sestanek šolske skupnosti
DESCRIPTION:3. sestanek šolske skupnosti bo v četrtek\, 24. 11.\, v času predure v učilnici glasbe. Vabljeni predvsem predstavniki razredov\, ki želijo sodelovati pri decembrskem dogajanju: pošta\, postavljanje smrekic\, krašenje …
URL:https://www.os-stranje.si/dogodek/3-sestanek-solske-skupnosti/
ATTACH;FMTTYPE=image/jpeg:https://www.os-stranje.si/wp-content/uploads/2020/12/20201222_140036.jpg
END:VEVENT
BEGIN:VEVENT
DTSTART;TZID=Europe/Ljubljana:20221111T073500
DTEND;TZID=Europe/Ljubljana:20221111T091000
DTSTAMP:20260423T053308
CREATED:20221107T220103Z
LAST-MODIFIED:20221107T220103Z
UID:10000210-1668152100-1668157800@www.os-stranje.si
SUMMARY:2. srečanje šolske skupnosti in otroškega parlamenta
DESCRIPTION:V petek\, 11. 11. 2022\, bo pred uro in 1. uro v učilnici KEMIJE potekalo 2. srečanje šolske skupnosti in otroškega parlamenta.
URL:https://www.os-stranje.si/dogodek/2-srecanje-solske-skupnosti-in-otroskega-parlamenta/
ATTACH;FMTTYPE=image/jpeg:https://www.os-stranje.si/wp-content/uploads/2019/01/nathan-dumlao-572047-unsplash-scaled.jpg
END:VEVENT
BEGIN:VEVENT
DTSTART;TZID=Europe/Ljubljana:20221014T073500
DTEND;TZID=Europe/Ljubljana:20221014T091000
DTSTAMP:20260423T053308
CREATED:20221010T214824Z
LAST-MODIFIED:20221010T214824Z
UID:10000205-1665732900-1665738600@www.os-stranje.si
SUMMARY:1. srečanje šolske skupnosti in otroškega parlamenta
DESCRIPTION:V petek\, 14. 10. 2022\, bo pred uro in 1. uro v učilnici KEMIJE potekalo 1. srečanje šolske skupnosti in otroškega parlamenta.
URL:https://www.os-stranje.si/dogodek/1-srecanje-solske-skupnosti-in-otroskega-parlamenta/
ATTACH;FMTTYPE=image/jpeg:https://www.os-stranje.si/wp-content/uploads/2019/01/nathan-dumlao-572047-unsplash-scaled.jpg
END:VEVENT
BEGIN:VEVENT
DTSTART;TZID=Europe/Ljubljana:20220603T073500
DTEND;TZID=Europe/Ljubljana:20220603T082000
DTSTAMP:20260423T053308
CREATED:20220530T202120Z
LAST-MODIFIED:20220530T202120Z
UID:10000048-1654241700-1654244400@www.os-stranje.si
SUMMARY:Sestanek šolske skupnosti
DESCRIPTION:Sklicujem zadnji sestanek šolske skupnosti in otroškega parlamenta\, ki bo v petek\, 3. 6. 2022\, v času predure v učilnici KEMIJE. Vabljeni predstavniki učencev od 4. do 9. razreda. \n\nLepo vas pozdravljam\,\nSanja Klemenc
URL:https://www.os-stranje.si/dogodek/sestanek-solske-skupnosti/
ATTACH;FMTTYPE=image/jpeg:https://www.os-stranje.si/wp-content/uploads/2019/08/element5-digital-OyCl7Y4y0Bk-unsplash_1600.jpg
END:VEVENT
BEGIN:VEVENT
DTSTART;TZID=Europe/Ljubljana:20211108T073500
DTEND;TZID=Europe/Ljubljana:20211108T091000
DTSTAMP:20260423T053308
CREATED:20211103T223444Z
LAST-MODIFIED:20211103T223444Z
UID:10000192-1636356900-1636362600@www.os-stranje.si
SUMMARY:2. sestanek šolske skupnosti
DESCRIPTION:Sklicujem 2. sestanek šolske skupnosti učencev predmetne stopnje\, ki bo v ponedeljek\, 8. 11. 2021\, v času predure in 1. šolske ure v učilnici KEMIJE. Vabljeni predstavniki učencev od 6. do 9. razreda. \n\nLepo vas pozdravljam\,\nSanja Klemenc
URL:https://www.os-stranje.si/dogodek/2-sestanek-solske-skupnosti/
ATTACH;FMTTYPE=image/jpeg:https://www.os-stranje.si/wp-content/uploads/2019/08/element5-digital-OyCl7Y4y0Bk-unsplash_manj-scaled.jpg
END:VEVENT
BEGIN:VEVENT
DTSTART;TZID=Europe/Ljubljana:20211008T073500
DTEND;TZID=Europe/Ljubljana:20211008T091000
DTSTAMP:20260423T053308
CREATED:20211001T062743Z
LAST-MODIFIED:20211103T223527Z
UID:10000195-1633678500-1633684200@www.os-stranje.si
SUMMARY:1. sestanek šolske skupnosti
DESCRIPTION:Sklicujem 1. sestanek šolske skupnosti učencev predmetne stopnje\, ki bo v petek\, 8. 10. 2021\, v času predure in 1. šolske ure v učilnici OPB. \n\nLepo vas pozdravljam\,\nSanja Klemenc
URL:https://www.os-stranje.si/dogodek/1-sestanek-solske-skupnosti/
ATTACH;FMTTYPE=image/jpeg:https://www.os-stranje.si/wp-content/uploads/2019/08/element5-digital-OyCl7Y4y0Bk-unsplash_1600.jpg
END:VEVENT
BEGIN:VEVENT
DTSTART;TZID=Europe/Ljubljana:20200205T080000
DTEND;TZID=Europe/Ljubljana:20200205T100000
DTSTAMP:20260423T053308
CREATED:20200131T211609Z
LAST-MODIFIED:20200131T211609Z
UID:10000152-1580889600-1580896800@www.os-stranje.si
SUMMARY:4. sestanek šolske skupnosti in otroškega parlamenta
DESCRIPTION:Obveščam vas\, da bo 4. sestanek šolske skupnosti in otroškega parlamenta v SREDO\, 5. 2. 2020 \n\nšolsko uro: PREDSTAVNIKI PREDMETNE STOPNJE (6. – 9. razred)\nšolsko uro: PREDSTAVNIKI RAZREDNE STOPNJE (3. – 5. razred).\n\nDobimo se v učilnici LIKOVNE UMETNOSTI.
URL:https://www.os-stranje.si/dogodek/4-sestanek-solske-skupnosti-in-otroskega-parlamenta/
ATTACH;FMTTYPE=image/jpeg:https://www.os-stranje.si/wp-content/uploads/2019/01/moren-hsu-359121-unsplash-scaled.jpg
END:VEVENT
BEGIN:VEVENT
DTSTART;TZID=Europe/Ljubljana:20200117T080000
DTEND;TZID=Europe/Ljubljana:20200117T100000
DTSTAMP:20260423T053308
CREATED:20191211T211216Z
LAST-MODIFIED:20200113T145104Z
UID:10000150-1579248000-1579255200@www.os-stranje.si
SUMMARY:3. sestanek šolske skupnosti in otroškega parlamenta
DESCRIPTION:3. sestanek šolske skupnosti in otroškega parlamenta bo v PETEK\, 17. 1. 2020\, 1. in 2. šolsko uro v učilnici LIKOVNE UMETNOSTI. \nVabljeni so predstavniki od 3. do 9. razreda.
URL:https://www.os-stranje.si/dogodek/3-sestanek-solske-skupnosti-in-otroskega-parlamenta/
ATTACH;FMTTYPE=image/jpeg:https://www.os-stranje.si/wp-content/uploads/2019/01/moren-hsu-359121-unsplash-scaled.jpg
END:VEVENT
BEGIN:VEVENT
DTSTART;TZID=Europe/Ljubljana:20191113T080000
DTEND;TZID=Europe/Ljubljana:20191113T100000
DTSTAMP:20260423T053308
CREATED:20191106T212807Z
LAST-MODIFIED:20191106T212807Z
UID:10000043-1573632000-1573639200@www.os-stranje.si
SUMMARY:2. sestanek šolske skupnosti in otroškega parlamenta
DESCRIPTION:2. sestanek šolske skupnosti in otroškega parlamenta bo v SREDO\, 13. 11. 2019\, 1. in 2. šolsko uro v učilnici LIKOVNE UMETNOSTI. \nVabljeni so predstavniki od 3. do 9. razreda. \nSanja Klemenc
URL:https://www.os-stranje.si/dogodek/2-sestanek-solske-skupnosti-in-otroskega-parlamenta/
ATTACH;FMTTYPE=image/jpeg:https://www.os-stranje.si/wp-content/uploads/2019/01/nathan-dumlao-572047-unsplash-scaled.jpg
END:VEVENT
BEGIN:VEVENT
DTSTART;TZID=Europe/Ljubljana:20191003T080000
DTEND;TZID=Europe/Ljubljana:20191003T100000
DTSTAMP:20260423T053308
CREATED:20190929T213328Z
LAST-MODIFIED:20190929T213518Z
UID:10000034-1570089600-1570096800@www.os-stranje.si
SUMMARY:1. sestanek šolske skupnosti in otroškega parlamenta
DESCRIPTION:1. sestanek šolske skupnosti in otroškega parlamenta bo v ČETRTEK 3. 10. 2019\, 1. in 2. šolsko uro v učilnici KEMIJE.Vabljeni so predstavniki od 3. do 9. razreda. \nSanja Klemenc\nmentorica
URL:https://www.os-stranje.si/dogodek/1-sestanek-solske-skupnosti-in-otroskega-parlamenta/
ATTACH;FMTTYPE=image/jpeg:https://www.os-stranje.si/wp-content/uploads/2019/01/nathan-dumlao-572047-unsplash-scaled.jpg
END:VEVENT
END:VCALENDAR