BEGIN:VCALENDAR
VERSION:2.0
PRODID:-//Osnovna šola Stranje - ECPv6.15.11//NONSGML v1.0//EN
CALSCALE:GREGORIAN
METHOD:PUBLISH
X-WR-CALNAME:Osnovna šola Stranje
X-ORIGINAL-URL:https://www.os-stranje.si
X-WR-CALDESC:Dogodki za Osnovna šola Stranje
REFRESH-INTERVAL;VALUE=DURATION:PT1H
X-Robots-Tag:noindex
X-PUBLISHED-TTL:PT1H
BEGIN:VTIMEZONE
TZID:Europe/Ljubljana
BEGIN:DAYLIGHT
TZOFFSETFROM:+0100
TZOFFSETTO:+0200
TZNAME:CEST
DTSTART:20220327T010000
END:DAYLIGHT
BEGIN:STANDARD
TZOFFSETFROM:+0200
TZOFFSETTO:+0100
TZNAME:CET
DTSTART:20221030T010000
END:STANDARD
BEGIN:DAYLIGHT
TZOFFSETFROM:+0100
TZOFFSETTO:+0200
TZNAME:CEST
DTSTART:20230326T010000
END:DAYLIGHT
BEGIN:STANDARD
TZOFFSETFROM:+0200
TZOFFSETTO:+0100
TZNAME:CET
DTSTART:20231029T010000
END:STANDARD
BEGIN:DAYLIGHT
TZOFFSETFROM:+0100
TZOFFSETTO:+0200
TZNAME:CEST
DTSTART:20240331T010000
END:DAYLIGHT
BEGIN:STANDARD
TZOFFSETFROM:+0200
TZOFFSETTO:+0100
TZNAME:CET
DTSTART:20241027T010000
END:STANDARD
END:VTIMEZONE
BEGIN:VEVENT
DTSTART;TZID=Europe/Ljubljana:20231215T073500
DTEND;TZID=Europe/Ljubljana:20231215T091000
DTSTAMP:20260419T172509
CREATED:20231207T203450Z
LAST-MODIFIED:20231207T203450Z
UID:10000240-1702625700-1702631400@www.os-stranje.si
SUMMARY:3. sestanek šolske skupnosti in otroškega parlamenta
DESCRIPTION:3. sestanek šolske skupnosti in otroškega parlamenta bo v petek\, 15. 12. 2023\, 0. in 1. uro v učilnici glasbe. Vabljeni so predstavniki od 4. do 9. razreda.\n0. uro bo sestanek z ravnateljico\, 1. uro bo delo po skupinah. \nPredstavnike prosiva za zanesljivo udeležbo. \nSanja Klemenc in Eva Plut\, mentorici
URL:https://www.os-stranje.si/dogodek/3-sestanek-solske-skupnosti-in-otroskega-parlamenta-2/
ATTACH;FMTTYPE=image/jpeg:https://www.os-stranje.si/wp-content/uploads/2019/01/nathan-dumlao-572047-unsplash-scaled.jpg
END:VEVENT
END:VCALENDAR