BEGIN:VCALENDAR
VERSION:2.0
PRODID:-//Osnovna šola Stranje - ECPv6.15.11//NONSGML v1.0//EN
CALSCALE:GREGORIAN
METHOD:PUBLISH
X-WR-CALNAME:Osnovna šola Stranje
X-ORIGINAL-URL:https://www.os-stranje.si
X-WR-CALDESC:Dogodki za Osnovna šola Stranje
REFRESH-INTERVAL;VALUE=DURATION:PT1H
X-Robots-Tag:noindex
X-PUBLISHED-TTL:PT1H
BEGIN:VTIMEZONE
TZID:Europe/Ljubljana
BEGIN:DAYLIGHT
TZOFFSETFROM:+0100
TZOFFSETTO:+0200
TZNAME:CEST
DTSTART:20220327T010000
END:DAYLIGHT
BEGIN:STANDARD
TZOFFSETFROM:+0200
TZOFFSETTO:+0100
TZNAME:CET
DTSTART:20221030T010000
END:STANDARD
BEGIN:DAYLIGHT
TZOFFSETFROM:+0100
TZOFFSETTO:+0200
TZNAME:CEST
DTSTART:20230326T010000
END:DAYLIGHT
BEGIN:STANDARD
TZOFFSETFROM:+0200
TZOFFSETTO:+0100
TZNAME:CET
DTSTART:20231029T010000
END:STANDARD
BEGIN:DAYLIGHT
TZOFFSETFROM:+0100
TZOFFSETTO:+0200
TZNAME:CEST
DTSTART:20240331T010000
END:DAYLIGHT
BEGIN:STANDARD
TZOFFSETFROM:+0200
TZOFFSETTO:+0100
TZNAME:CET
DTSTART:20241027T010000
END:STANDARD
BEGIN:DAYLIGHT
TZOFFSETFROM:+0100
TZOFFSETTO:+0200
TZNAME:CEST
DTSTART:20250330T010000
END:DAYLIGHT
BEGIN:STANDARD
TZOFFSETFROM:+0200
TZOFFSETTO:+0100
TZNAME:CET
DTSTART:20251026T010000
END:STANDARD
BEGIN:DAYLIGHT
TZOFFSETFROM:+0100
TZOFFSETTO:+0200
TZNAME:CEST
DTSTART:20260329T010000
END:DAYLIGHT
BEGIN:STANDARD
TZOFFSETFROM:+0200
TZOFFSETTO:+0100
TZNAME:CET
DTSTART:20261025T010000
END:STANDARD
END:VTIMEZONE
BEGIN:VEVENT
DTSTART;TZID=Europe/Ljubljana:20250320T153000
DTEND;TZID=Europe/Ljubljana:20250320T163000
DTSTAMP:20260420T023729
CREATED:20250317T211441Z
LAST-MODIFIED:20250317T211441Z
UID:10000278-1742484600-1742488200@www.os-stranje.si
SUMMARY:Otvoritev razstave Rudolf med nami
DESCRIPTION:Vabimo Vas na otvoritev razstave – prostorske instalacije z naslovom Rudolf med nami\, ki so jo pripravili učenci in učenke Osnovne šole Stranje. Otvoritev instalacije bo v prostorih Osnovne šole Stranje potekala v četrtek\, 20. marca\, ob 15.30. Več …
URL:https://www.os-stranje.si/dogodek/otvoritev-razstave-rudolf-med-nami/
ATTACH;FMTTYPE=image/jpeg:https://www.os-stranje.si/wp-content/uploads/2025/03/MaisterRudolf.jpg
END:VEVENT
BEGIN:VEVENT
DTSTART;TZID=Europe/Ljubljana:20231120T160000
DTEND;TZID=Europe/Ljubljana:20231125T190000
DTSTAMP:20260420T023729
CREATED:20231118T202356Z
LAST-MODIFIED:20231118T202356Z
UID:10000238-1700496000-1700938800@www.os-stranje.si
SUMMARY:VABILO na odprtje razstave Nastanek Slovenske vojske in Osamosvojitvena vojna za Slovenijo 1991
DESCRIPTION:
URL:https://www.os-stranje.si/dogodek/vabilo-na-odprtje-razstave-nastanek-slovenske-vojske-in-osamosvojitvena-vojna-za-slovenijo-1991/
END:VEVENT
END:VCALENDAR