BEGIN:VCALENDAR
VERSION:2.0
PRODID:-//Osnovna šola Stranje - ECPv6.15.11//NONSGML v1.0//EN
CALSCALE:GREGORIAN
METHOD:PUBLISH
X-WR-CALNAME:Osnovna šola Stranje
X-ORIGINAL-URL:https://www.os-stranje.si
X-WR-CALDESC:Dogodki za Osnovna šola Stranje
REFRESH-INTERVAL;VALUE=DURATION:PT1H
X-Robots-Tag:noindex
X-PUBLISHED-TTL:PT1H
BEGIN:VTIMEZONE
TZID:Europe/Ljubljana
BEGIN:DAYLIGHT
TZOFFSETFROM:+0100
TZOFFSETTO:+0200
TZNAME:CEST
DTSTART:20240331T010000
END:DAYLIGHT
BEGIN:STANDARD
TZOFFSETFROM:+0200
TZOFFSETTO:+0100
TZNAME:CET
DTSTART:20241027T010000
END:STANDARD
BEGIN:DAYLIGHT
TZOFFSETFROM:+0100
TZOFFSETTO:+0200
TZNAME:CEST
DTSTART:20250330T010000
END:DAYLIGHT
BEGIN:STANDARD
TZOFFSETFROM:+0200
TZOFFSETTO:+0100
TZNAME:CET
DTSTART:20251026T010000
END:STANDARD
BEGIN:DAYLIGHT
TZOFFSETFROM:+0100
TZOFFSETTO:+0200
TZNAME:CEST
DTSTART:20260329T010000
END:DAYLIGHT
BEGIN:STANDARD
TZOFFSETFROM:+0200
TZOFFSETTO:+0100
TZNAME:CET
DTSTART:20261025T010000
END:STANDARD
END:VTIMEZONE
BEGIN:VEVENT
DTSTART;TZID=Europe/Ljubljana:20251111T180000
DTEND;TZID=Europe/Ljubljana:20251111T190000
DTSTAMP:20260420T090433
CREATED:20251103T132019Z
LAST-MODIFIED:20251103T132019Z
UID:10000294-1762884000-1762887600@www.os-stranje.si
SUMMARY:4. brezplačno predavanje za starše: Komunikacija z najstnikom
DESCRIPTION:11. 11. 2025 ob 18. uri bo v sklopu lokalne akcijske skupine potekalo četrto predavanje za starše Komunikacija z najstnikom v izvedbi Jasmine Mazej. Več …
URL:https://www.os-stranje.si/dogodek/4-brezplacno-predavanje-za-starse-komunikacija-z-najstnikom/
ATTACH;FMTTYPE=image/png:https://www.os-stranje.si/wp-content/uploads/2025/11/2025-11-11-LAS-Komunikacija-z-najstnikom.png
END:VEVENT
BEGIN:VEVENT
DTSTART;TZID=Europe/Ljubljana:20251120T180000
DTEND;TZID=Europe/Ljubljana:20251120T193000
DTSTAMP:20260420T090433
CREATED:20251113T202440Z
LAST-MODIFIED:20251113T202440Z
UID:10000298-1763661600-1763667000@www.os-stranje.si
SUMMARY:Predavanje „UČENJE UČENJA“ za starše učencev 7. – 9. razreda
DESCRIPTION:Vabimo vas na predavanje z naslovom „Učenje učenja“\, ki bo potekalo v četrtek\, 20. 11. 2025 ob 18.00 uri v jedilnici šole. Več …
URL:https://www.os-stranje.si/dogodek/predavanje-ucenje-ucenja-za-starse-ucencev-7-9-razreda/
ATTACH;FMTTYPE=image/jpeg:https://www.os-stranje.si/wp-content/uploads/2019/02/antoine-dautry-428780-unsplash-scaled.jpg
END:VEVENT
END:VCALENDAR