BEGIN:VCALENDAR
VERSION:2.0
PRODID:-//Osnovna šola Stranje - ECPv6.15.11//NONSGML v1.0//EN
CALSCALE:GREGORIAN
METHOD:PUBLISH
X-WR-CALNAME:Osnovna šola Stranje
X-ORIGINAL-URL:https://www.os-stranje.si
X-WR-CALDESC:Dogodki za Osnovna šola Stranje
REFRESH-INTERVAL;VALUE=DURATION:PT1H
X-Robots-Tag:noindex
X-PUBLISHED-TTL:PT1H
BEGIN:VTIMEZONE
TZID:Europe/Ljubljana
BEGIN:DAYLIGHT
TZOFFSETFROM:+0100
TZOFFSETTO:+0200
TZNAME:CEST
DTSTART:20180325T010000
END:DAYLIGHT
BEGIN:STANDARD
TZOFFSETFROM:+0200
TZOFFSETTO:+0100
TZNAME:CET
DTSTART:20181028T010000
END:STANDARD
BEGIN:DAYLIGHT
TZOFFSETFROM:+0100
TZOFFSETTO:+0200
TZNAME:CEST
DTSTART:20190331T010000
END:DAYLIGHT
BEGIN:STANDARD
TZOFFSETFROM:+0200
TZOFFSETTO:+0100
TZNAME:CET
DTSTART:20191027T010000
END:STANDARD
BEGIN:DAYLIGHT
TZOFFSETFROM:+0100
TZOFFSETTO:+0200
TZNAME:CEST
DTSTART:20200329T010000
END:DAYLIGHT
BEGIN:STANDARD
TZOFFSETFROM:+0200
TZOFFSETTO:+0100
TZNAME:CET
DTSTART:20201025T010000
END:STANDARD
BEGIN:DAYLIGHT
TZOFFSETFROM:+0100
TZOFFSETTO:+0200
TZNAME:CEST
DTSTART:20210328T010000
END:DAYLIGHT
BEGIN:STANDARD
TZOFFSETFROM:+0200
TZOFFSETTO:+0100
TZNAME:CET
DTSTART:20211031T010000
END:STANDARD
BEGIN:DAYLIGHT
TZOFFSETFROM:+0100
TZOFFSETTO:+0200
TZNAME:CEST
DTSTART:20220327T010000
END:DAYLIGHT
BEGIN:STANDARD
TZOFFSETFROM:+0200
TZOFFSETTO:+0100
TZNAME:CET
DTSTART:20221030T010000
END:STANDARD
BEGIN:DAYLIGHT
TZOFFSETFROM:+0100
TZOFFSETTO:+0200
TZNAME:CEST
DTSTART:20230326T010000
END:DAYLIGHT
BEGIN:STANDARD
TZOFFSETFROM:+0200
TZOFFSETTO:+0100
TZNAME:CET
DTSTART:20231029T010000
END:STANDARD
BEGIN:DAYLIGHT
TZOFFSETFROM:+0100
TZOFFSETTO:+0200
TZNAME:CEST
DTSTART:20240331T010000
END:DAYLIGHT
BEGIN:STANDARD
TZOFFSETFROM:+0200
TZOFFSETTO:+0100
TZNAME:CET
DTSTART:20241027T010000
END:STANDARD
BEGIN:DAYLIGHT
TZOFFSETFROM:+0100
TZOFFSETTO:+0200
TZNAME:CEST
DTSTART:20250330T010000
END:DAYLIGHT
BEGIN:STANDARD
TZOFFSETFROM:+0200
TZOFFSETTO:+0100
TZNAME:CET
DTSTART:20251026T010000
END:STANDARD
END:VTIMEZONE
BEGIN:VEVENT
DTSTART;TZID=Europe/Ljubljana:20241126T180000
DTEND;TZID=Europe/Ljubljana:20241126T190000
DTSTAMP:20260420T060428
CREATED:20241104T194729Z
LAST-MODIFIED:20241104T194729Z
UID:10000264-1732644000-1732647600@www.os-stranje.si
SUMMARY:Predavanje za starše otrok od 6. do 9. razreda
DESCRIPTION:Spoštovani starši\,  \nnašo ponudbo izobraževanj za starše želimo v letošnjem letu še izboljšati.  \nNa predavanjih smo zaznali\, da je se želite pogovarjati o vzgojnih izzivih. Kot pravijo\, teorija prenese vse\, v vsakdanjem življenju pa nas otroci in mladostniki postavijo pred nešteto izzivov.  \nZa pokušino smo pripravili dva Pogovorna večera za starše: \n\n 12. 11. 2024 za starše otrok od 1. do 5. razreda\,\n 26. 11. 2024 za starše otrok od 6. do 9. razreda.\n\nSrečanji bosta potekali od 18.00 do predvidoma 19.00 v prostorih Mladinskega centra Kotlovnica\, Fužine 10\, Kamnik. \nZ vami bo Sanja Klemenc\, socialna pedagoginja\, ki jo že dobro poznamo. Z Mladinskim centrom Kotlovnica sodeluje vrsto let s predavanjem Vzgoja za samostojnost. Njeni poudarki so usmerjanje in spodbujanje otrok v smeri\, da odrastejo v samostojne\, čuječe\, asertivne posameznike. \nZa LAS Kamnik\nRok Kosec\nZavod Mladinski center Kotlovnica Kamnik\nFužine 10\, SI-1241 Kamnik\ninfo@kotlovnica.si
URL:https://www.os-stranje.si/dogodek/predavanje-za-starse-otrok-od-6-do-9-razreda/
ATTACH;FMTTYPE=image/jpeg:https://www.os-stranje.si/wp-content/uploads/2018/12/f-urniki-nadomescanja.jpg
END:VEVENT
BEGIN:VEVENT
DTSTART;TZID=Europe/Ljubljana:20241112T180000
DTEND;TZID=Europe/Ljubljana:20241112T190000
DTSTAMP:20260420T060428
CREATED:20241104T194553Z
LAST-MODIFIED:20241104T194725Z
UID:10000265-1731434400-1731438000@www.os-stranje.si
SUMMARY:Predavanje za starše otrok od 1. do 5. razreda
DESCRIPTION:Spoštovani starši\,  \nnašo ponudbo izobraževanj za starše želimo v letošnjem letu še izboljšati.  \nNa predavanjih smo zaznali\, da je se želite pogovarjati o vzgojnih izzivih. Kot pravijo\, teorija prenese vse\, v vsakdanjem življenju pa nas otroci in mladostniki postavijo pred nešteto izzivov.  \nZa pokušino smo pripravili dva Pogovorna večera za starše: \n\n 12. 11. 2024 za starše otrok od 1. do 5. razreda\,\n 26. 11. 2024 za starše otrok od 6. do 9. razreda.\n\nSrečanji bosta potekali od 18.00 do predvidoma 19.00 v prostorih Mladinskega centra Kotlovnica\, Fužine 10\, Kamnik. \nZ vami bo Sanja Klemenc\, socialna pedagoginja\, ki jo že dobro poznamo. Z Mladinskim centrom Kotlovnica sodeluje vrsto let s predavanjem Vzgoja za samostojnost. Njeni poudarki so usmerjanje in spodbujanje otrok v smeri\, da odrastejo v samostojne\, čuječe\, asertivne posameznike. \nZa LAS Kamnik\nRok Kosec\nZavod Mladinski center Kotlovnica Kamnik\nFužine 10\, SI-1241 Kamnik\ninfo@kotlovnica.si
URL:https://www.os-stranje.si/dogodek/predavanje-za-starse-ucencev-od-1-do-5-razreda/
ATTACH;FMTTYPE=image/jpeg:https://www.os-stranje.si/wp-content/uploads/2018/12/f-urniki-nadomescanja.jpg
END:VEVENT
BEGIN:VEVENT
DTSTART;TZID=Europe/Ljubljana:20241015T180000
DTEND;TZID=Europe/Ljubljana:20241015T190000
DTSTAMP:20260420T060428
CREATED:20241009T192045Z
LAST-MODIFIED:20241009T192045Z
UID:10000108-1729015200-1729018800@www.os-stranje.si
SUMMARY:Predavanje za starše: Vzgoja za samostojnost
DESCRIPTION:V torek\, 15. oktobra 2024\, se bo v MC Kotlovnica\, ob 18. uri odvilo drugo predavanje za starše\, Vzgoja za samostojnost\, v izvedbi Zavoda Mind. \nO predavanju:\nPredavateljici Sanja Klemenc in Tamara Gorenc sta socialni pedagoginji in imata večletne delovne izkušnje pri delu z otroki in mladostniki.\nVzgoja otroka je veščina\, za katero starši\, ob nastopu naše vloge\, nismo predhodno usposobljeni. Želimo si vzgojiti odgovorne in samostojne posameznike. Tekom odraščanja naših otrok iščemo ravnovesje med različnimi vidiki vzgoje:\n– disciplino in svobodo\,\n– podporo in neodvisnostjo\,\n– čustveno toplino in doslednostjo\,\n– akademskim uspehom in prostim časom\,\n– učenju socialnih veščin in indvidiualnosti\,… \nV procesu vzgoje je stalnica naš stik in odnos z otrokom\, ki se tekom razvojnih obdobij sooča z različnimi izzivi. \nNa predavanju bomo spoznali vpliv vzgoje na razvoj otrokovih možganov\, kako se ustrezno čustveno odzvati in temu prilagoditi našo komunikacijo.\nOdgovorili bomo na vprašanja:\n– Kako dobiti in ohranjati stik z otrokom?\n– Kako se pogovarjati z otrokom\, da nas bo »slišal«?\n– Kaj je pri pogovoru najbolj pomembno?\n– Kaj so najpogostejše napake\, ki jih starši pri pogovoru z otroki delamo?\nNa predavanju se bodo prepletale najine izkušnje in konkretni primeri; prav tako pa bomo poskušali odgovoriti na vaša vprašanja. \n—\nZavod Mislim in Delujem (Zavod MIND) je zasebni zavod\, ki so ga ustanovile štiri socialne pedagoginje. Ukvarjajo se z izobraževanjem strokovnih delavcev na področju vzgoje in izobraževanja\, osebnim svetovanjem in psihoterapijo. Izvajajo tudi predavanja in delavnice za starše otrok in mladostnikov. Pri svojem delu nas vodi prepričanje jaz sem OK\, ti si OK\, praktične izkušnje in predanost delu z ljudmi.\n—\nPredavanje poteka v organizaciji LAS Občine Kamnik in v sodelovanju z Zavodom Mind. \nZa LAS Kamnik\nRok Kosec
URL:https://www.os-stranje.si/dogodek/predavanje-za-starse-vzgoja-za-samostojnost/
ATTACH;FMTTYPE=image/jpeg:https://www.os-stranje.si/wp-content/uploads/2024/10/VZGOJA-ZA-SAMOSTOJNOST.jpg
END:VEVENT
BEGIN:VEVENT
DTSTART;TZID=Europe/Ljubljana:20241001T180000
DTEND;TZID=Europe/Ljubljana:20241001T193000
DTSTAMP:20260420T060428
CREATED:20240924T142709Z
LAST-MODIFIED:20240924T142709Z
UID:10000104-1727805600-1727811000@www.os-stranje.si
SUMMARY:Predavanje za starše: Mladi na spletu
DESCRIPTION:Pozdravljeni\, \nv torek\, 1. oktobra 2024\, se bo v MC Kotlovnica\, ob 18. uri odvilo prvo predavanje za starše\, Mladi na spletu\, v izvedbi Logouta-a. \nO predavanju:\nPredavatelj Rok Gumzej\, dipl. soc. ped.\, se bo spredohil po trenutni spletni pokrajini ter predstavil pasti\, ki prežijo na mlade. \nLogout je prvi specializirani center pomoči ob različnih tveganih spletnih vedenjih\, ustanovljen leta 2010. Njihovo poslanstvo je izboljšati digitalno blaginjo vseh ljudi\, zlasti mladih\, z zagotavljanjem zdravljenja\, pomoči\, obveščanjem\, izobraževanjem in ozaveščanjem o uravnoteženi in zdravi uporabi sodobnih medijev in zaslonske tehnologije. \nPredavanje poteka v organizaciji LAS Občine Kamnik in v sodelovanju z Logout. \nZa LAS Kamnik\nRok Kosec
URL:https://www.os-stranje.si/dogodek/predavanje-za-starse-mladi-na-spletu/
ATTACH;FMTTYPE=image/jpeg:https://www.os-stranje.si/wp-content/uploads/2020/11/ludovic-toinel-nGwyaWKFRVI-unsplash.jpg
END:VEVENT
BEGIN:VEVENT
DTSTART;TZID=Europe/Ljubljana:20231114T180000
DTEND;TZID=Europe/Ljubljana:20231114T190000
DTSTAMP:20260420T060428
CREATED:20231109T194830Z
LAST-MODIFIED:20231109T194830Z
UID:10000235-1699984800-1699988400@www.os-stranje.si
SUMMARY:Predavanje za starše: Odkrito o duševnem zdravju otrok in mladostnikov
DESCRIPTION:V torek\, 14. novembra 2023\, se bo v MC Kotlovnica\, ob 18. uri odvilo predavanje za starše\, Odkrito o duševnem zdravju otrok in mladostnikov\, v izvedbi Centra za duševno zdravje otrok in mladostnikov Domžale. Več …
URL:https://www.os-stranje.si/dogodek/predavanje-za-starse-odkrito-o-dusevnem-zdravju-otrok-in-mladostnikov/
ATTACH;FMTTYPE=image/jpeg:https://www.os-stranje.si/wp-content/uploads/2021/10/juliane-liebermann-O-RKu3Aqnsw-unsplash.jpg
END:VEVENT
BEGIN:VEVENT
DTSTART;TZID=Europe/Ljubljana:20231024T180000
DTEND;TZID=Europe/Ljubljana:20231024T190000
DTSTAMP:20260420T060428
CREATED:20231019T120338Z
LAST-MODIFIED:20231019T120338Z
UID:10000080-1698170400-1698174000@www.os-stranje.si
SUMMARY:Predavanje za starše - Komunikacija z otrokom in mladostnikom
DESCRIPTION:V torek\, 24. oktobra 2023\, se bo v MC Kotlovnica\, ob 18. uri odvilo tretje predavanje za starše\, Komunikacija z otrokom in mladostnikom\, v izvedbi Zavoda Mind. Več …
URL:https://www.os-stranje.si/dogodek/predavanje-za-starse-komunikacija-z-otrokom-in-mladostnikom/
ATTACH;FMTTYPE=image/jpeg:https://www.os-stranje.si/wp-content/uploads/2023/10/2023-10-24-Komunikacija-z-otrokom-in-mladostnikom-1.jpg
END:VEVENT
BEGIN:VEVENT
DTSTART;TZID=Europe/Ljubljana:20231010T180000
DTEND;TZID=Europe/Ljubljana:20231010T193000
DTSTAMP:20260420T060428
CREATED:20231004T185910Z
LAST-MODIFIED:20231004T185910Z
UID:10000077-1696960800-1696966200@www.os-stranje.si
SUMMARY:Predavanje za starše: Kako se z najstnikom pogovarjati o drogah
DESCRIPTION:v torek\, 10. oktobra 2023\, se bo v MC Kotlovnica\, ob 18. uri odvilo prvo predavanje za starše\, Kako se z najstnikom pogovarjati o drogah\, Več …
URL:https://www.os-stranje.si/dogodek/predavanje-za-starse-kako-se-z-najstnikom-pogovarjati-o-drogah-2/
ATTACH;FMTTYPE=image/jpeg:https://www.os-stranje.si/wp-content/uploads/2023/10/2023-10-10-Kako-se-z-najstnikom-pogovarjati-o-drogah-1.jpg
END:VEVENT
BEGIN:VEVENT
DTSTART;TZID=Europe/Ljubljana:20220324T170000
DTEND;TZID=Europe/Ljubljana:20220324T180000
DTSTAMP:20260420T060428
CREATED:20220319T202201Z
LAST-MODIFIED:20220319T202452Z
UID:10000198-1648141200-1648144800@www.os-stranje.si
SUMMARY:Predavanje za starše - Vpliv gozda na razvoj in učenje otrok
DESCRIPTION:Spoštovani\,\nvljudno vas vabimo na predavanje za starše z naslovom VPLIV GOZDA NA RAZVOJ IN UČENJE OTROK\, ki bo potekalo v četrtek\, 24. 3. 2022 ob 17.00 preko aplikacije Teams. Predavanje bo vodila gospa Tatjana Jakovljević\, univ. dipl. prof. def. Več …
URL:https://www.os-stranje.si/dogodek/vabilo-na-predavanje-vpliv-gozda-na-razvoj-in-ucenje-otrok/
ATTACH;FMTTYPE=image/jpeg:https://www.os-stranje.si/wp-content/uploads/2022/03/IMG-20200430-WA0006.jpg
END:VEVENT
BEGIN:VEVENT
DTSTART;TZID=Europe/Ljubljana:20211130T180000
DTEND;TZID=Europe/Ljubljana:20211130T190000
DTSTAMP:20260420T060428
CREATED:20211117T223200Z
LAST-MODIFIED:20211117T223200Z
UID:10000202-1638295200-1638298800@www.os-stranje.si
SUMMARY:Predavanje za starše: Družinska e-pravila
DESCRIPTION:V torek\, 30. novembra 2021\, se bo ob 18. uri odvilo tretje (in zadnje letošnje) SPLETNO predavanje za starše Družinska e-pravila v izvedbi Logout. Več …
URL:https://www.os-stranje.si/dogodek/predavanje-za-starse-druzinska-e-pravila/
ATTACH;FMTTYPE=image/jpeg:https://www.os-stranje.si/wp-content/uploads/2020/11/ludovic-toinel-nGwyaWKFRVI-unsplash.jpg
END:VEVENT
BEGIN:VEVENT
DTSTART;TZID=Europe/Ljubljana:20211116T180000
DTEND;TZID=Europe/Ljubljana:20211116T190000
DTSTAMP:20260420T060428
CREATED:20211103T223110Z
LAST-MODIFIED:20211103T223110Z
UID:10000193-1637085600-1637089200@www.os-stranje.si
SUMMARY:Predavanje za starše: Kako se z najstnikom pogovarjati o drogah
DESCRIPTION:V torek\, 16. novembra 2021\, se bo ob 18. uri odvilo drugo SPLETNO predavanje za starše Kako se z najstnikom pogovarjati o drogah v izvedbi združenja DrogArt. Več …
URL:https://www.os-stranje.si/dogodek/predavanje-za-starse-kako-se-z-najstnikom-pogovarjati-o-drogah/
ATTACH;FMTTYPE=image/jpeg:https://www.os-stranje.si/wp-content/uploads/2020/08/barrett-ward-1qQx3LHaYGg-unsplash-scaled.jpg
END:VEVENT
BEGIN:VEVENT
DTSTART;TZID=Europe/Ljubljana:20190130T170000
DTEND;TZID=Europe/Ljubljana:20190130T200000
DTSTAMP:20260420T060428
CREATED:20190123T232307Z
LAST-MODIFIED:20190128T091708Z
UID:10000009-1548867600-1548878400@www.os-stranje.si
SUMMARY:Predavanje za starše
DESCRIPTION:Predavanje o uporabi prepovedanih substanc v organizaciji Policijske uprave Ljubljana – Sektor kriminalistične policije v sredo\, 30. 1. 2019\, ob 17.00 v šolski avli. \nPredavanje je namenjeno staršem in učencem 8. in 9. razredov. \n 
URL:https://www.os-stranje.si/dogodek/predavanje-za-starse/
END:VEVENT
END:VCALENDAR