BEGIN:VCALENDAR
VERSION:2.0
PRODID:-//Osnovna šola Stranje - ECPv6.15.11//NONSGML v1.0//EN
CALSCALE:GREGORIAN
METHOD:PUBLISH
X-WR-CALNAME:Osnovna šola Stranje
X-ORIGINAL-URL:https://www.os-stranje.si
X-WR-CALDESC:Dogodki za Osnovna šola Stranje
REFRESH-INTERVAL;VALUE=DURATION:PT1H
X-Robots-Tag:noindex
X-PUBLISHED-TTL:PT1H
BEGIN:VTIMEZONE
TZID:Europe/Ljubljana
BEGIN:DAYLIGHT
TZOFFSETFROM:+0100
TZOFFSETTO:+0200
TZNAME:CEST
DTSTART:20230326T010000
END:DAYLIGHT
BEGIN:STANDARD
TZOFFSETFROM:+0200
TZOFFSETTO:+0100
TZNAME:CET
DTSTART:20231029T010000
END:STANDARD
BEGIN:DAYLIGHT
TZOFFSETFROM:+0100
TZOFFSETTO:+0200
TZNAME:CEST
DTSTART:20240331T010000
END:DAYLIGHT
BEGIN:STANDARD
TZOFFSETFROM:+0200
TZOFFSETTO:+0100
TZNAME:CET
DTSTART:20241027T010000
END:STANDARD
BEGIN:DAYLIGHT
TZOFFSETFROM:+0100
TZOFFSETTO:+0200
TZNAME:CEST
DTSTART:20250330T010000
END:DAYLIGHT
BEGIN:STANDARD
TZOFFSETFROM:+0200
TZOFFSETTO:+0100
TZNAME:CET
DTSTART:20251026T010000
END:STANDARD
BEGIN:DAYLIGHT
TZOFFSETFROM:+0100
TZOFFSETTO:+0200
TZNAME:CEST
DTSTART:20260329T010000
END:DAYLIGHT
BEGIN:STANDARD
TZOFFSETFROM:+0200
TZOFFSETTO:+0100
TZNAME:CET
DTSTART:20261025T010000
END:STANDARD
END:VTIMEZONE
BEGIN:VEVENT
DTSTART;TZID=Europe/Ljubljana:20250327T080000
DTEND;TZID=Europe/Ljubljana:20250327T095000
DTSTAMP:20260419T185529
CREATED:20250317T095842Z
LAST-MODIFIED:20250317T095842Z
UID:10000276-1743062400-1743069000@www.os-stranje.si
SUMMARY:Nacionalno preverjanje znanja 27. 3. 2025 - MATEMATIKA
DESCRIPTION:V četrtek\, 27. 3. 2025\, bodo učenci 3.\, 6. in 9. razreda pisali nacionalno preverjanje znanja iz matematike. Več …
URL:https://www.os-stranje.si/dogodek/nacionalno-preverjanje-znanja-27-3-2025-matematika/
ATTACH;FMTTYPE=image/jpeg:https://www.os-stranje.si/wp-content/uploads/2025/03/NPZ_Logo.jpg
END:VEVENT
BEGIN:VEVENT
DTSTART;TZID=Europe/Ljubljana:20240509T080000
DTEND;TZID=Europe/Ljubljana:20240509T090000
DTSTAMP:20260419T185529
CREATED:20240506T142628Z
LAST-MODIFIED:20240506T142628Z
UID:10000096-1715241600-1715245200@www.os-stranje.si
SUMMARY:NPZ matematika
DESCRIPTION:V četrtek\, 9. 5. 2024\,  boste učenci 6. in 9. razreda pisali nacionalno preverjanje znanja iz matematike. Zbrali se boste najkasneje ob 7.45 v avli šole ter počakali\, da vas pride iskat nadzorni učitelj. Na oglasni deski pri vhodu v avlo bo objavljen razpored po učilnicah. S pisanjem nacionalnega preizkusa pričnete  ob 8.00  in končate ob 9.00. Prosim\, bodite točni! \nPo končanem pisanju bo malica v učilnici po razporedu obešenem na oglasni deski.  \nVsem učencem 6. in 9. razreda želim veliko pravih misli in čim več uspeha na nacionalnem preverjanju znanja.
URL:https://www.os-stranje.si/dogodek/npz-matematika/
ATTACH;FMTTYPE=image/jpeg:https://www.os-stranje.si/wp-content/uploads/2024/05/OS_Stranje_N.jpg
END:VEVENT
END:VCALENDAR