BEGIN:VCALENDAR
VERSION:2.0
PRODID:-//Osnovna šola Stranje - ECPv6.15.11//NONSGML v1.0//EN
CALSCALE:GREGORIAN
METHOD:PUBLISH
X-WR-CALNAME:Osnovna šola Stranje
X-ORIGINAL-URL:https://www.os-stranje.si
X-WR-CALDESC:Dogodki za Osnovna šola Stranje
REFRESH-INTERVAL;VALUE=DURATION:PT1H
X-Robots-Tag:noindex
X-PUBLISHED-TTL:PT1H
BEGIN:VTIMEZONE
TZID:Europe/Ljubljana
BEGIN:DAYLIGHT
TZOFFSETFROM:+0100
TZOFFSETTO:+0200
TZNAME:CEST
DTSTART:20220327T010000
END:DAYLIGHT
BEGIN:STANDARD
TZOFFSETFROM:+0200
TZOFFSETTO:+0100
TZNAME:CET
DTSTART:20221030T010000
END:STANDARD
BEGIN:DAYLIGHT
TZOFFSETFROM:+0100
TZOFFSETTO:+0200
TZNAME:CEST
DTSTART:20230326T010000
END:DAYLIGHT
BEGIN:STANDARD
TZOFFSETFROM:+0200
TZOFFSETTO:+0100
TZNAME:CET
DTSTART:20231029T010000
END:STANDARD
BEGIN:DAYLIGHT
TZOFFSETFROM:+0100
TZOFFSETTO:+0200
TZNAME:CEST
DTSTART:20240331T010000
END:DAYLIGHT
BEGIN:STANDARD
TZOFFSETFROM:+0200
TZOFFSETTO:+0100
TZNAME:CET
DTSTART:20241027T010000
END:STANDARD
BEGIN:DAYLIGHT
TZOFFSETFROM:+0100
TZOFFSETTO:+0200
TZNAME:CEST
DTSTART:20250330T010000
END:DAYLIGHT
BEGIN:STANDARD
TZOFFSETFROM:+0200
TZOFFSETTO:+0100
TZNAME:CET
DTSTART:20251026T010000
END:STANDARD
END:VTIMEZONE
BEGIN:VEVENT
DTSTART;TZID=Europe/Ljubljana:20240518T090000
DTEND;TZID=Europe/Ljubljana:20240519T150000
DTSTAMP:20260419T172511
CREATED:20240518T065528Z
LAST-MODIFIED:20240518T065553Z
UID:10000101-1716022800-1716130800@www.os-stranje.si
SUMMARY:Vabilo na ogled modula malih železnic
DESCRIPTION:V jedilnici OŠ Stranje bodo v soboto\, 18. 5.\, in v nedeljo 19. 5.\, med 9. in 15. uro na ogled moduli malih železnic. Več …
URL:https://www.os-stranje.si/dogodek/ogled-modula-malih-zeleznic/
ATTACH;FMTTYPE=image/jpeg:https://www.os-stranje.si/wp-content/uploads/2023/06/MaleZeleznice2023_008.jpg
END:VEVENT
BEGIN:VEVENT
DTSTART;TZID=Europe/Ljubljana:20230610T100000
DTEND;TZID=Europe/Ljubljana:20230610T150000
DTSTAMP:20260419T172511
CREATED:20230610T051046Z
LAST-MODIFIED:20230610T051248Z
UID:10000225-1686391200-1686409200@www.os-stranje.si
SUMMARY:Vabilo na ogled malih železnic
DESCRIPTION:
URL:https://www.os-stranje.si/dogodek/vabilo-na-ogled-malih-zeleznic/
ATTACH;FMTTYPE=image/jpeg:https://www.os-stranje.si/wp-content/uploads/2023/02/TehnicniKrozek_005.jpg
END:VEVENT
END:VCALENDAR