BEGIN:VCALENDAR
VERSION:2.0
PRODID:-//Osnovna šola Stranje - ECPv6.15.11//NONSGML v1.0//EN
CALSCALE:GREGORIAN
METHOD:PUBLISH
X-WR-CALNAME:Osnovna šola Stranje
X-ORIGINAL-URL:https://www.os-stranje.si
X-WR-CALDESC:Dogodki za Osnovna šola Stranje
REFRESH-INTERVAL;VALUE=DURATION:PT1H
X-Robots-Tag:noindex
X-PUBLISHED-TTL:PT1H
BEGIN:VTIMEZONE
TZID:Europe/Ljubljana
BEGIN:DAYLIGHT
TZOFFSETFROM:+0100
TZOFFSETTO:+0200
TZNAME:CEST
DTSTART:20190331T010000
END:DAYLIGHT
BEGIN:STANDARD
TZOFFSETFROM:+0200
TZOFFSETTO:+0100
TZNAME:CET
DTSTART:20191027T010000
END:STANDARD
BEGIN:DAYLIGHT
TZOFFSETFROM:+0100
TZOFFSETTO:+0200
TZNAME:CEST
DTSTART:20200329T010000
END:DAYLIGHT
BEGIN:STANDARD
TZOFFSETFROM:+0200
TZOFFSETTO:+0100
TZNAME:CET
DTSTART:20201025T010000
END:STANDARD
BEGIN:DAYLIGHT
TZOFFSETFROM:+0100
TZOFFSETTO:+0200
TZNAME:CEST
DTSTART:20210328T010000
END:DAYLIGHT
BEGIN:STANDARD
TZOFFSETFROM:+0200
TZOFFSETTO:+0100
TZNAME:CET
DTSTART:20211031T010000
END:STANDARD
BEGIN:DAYLIGHT
TZOFFSETFROM:+0100
TZOFFSETTO:+0200
TZNAME:CEST
DTSTART:20220327T010000
END:DAYLIGHT
BEGIN:STANDARD
TZOFFSETFROM:+0200
TZOFFSETTO:+0100
TZNAME:CET
DTSTART:20221030T010000
END:STANDARD
BEGIN:DAYLIGHT
TZOFFSETFROM:+0100
TZOFFSETTO:+0200
TZNAME:CEST
DTSTART:20230326T010000
END:DAYLIGHT
BEGIN:STANDARD
TZOFFSETFROM:+0200
TZOFFSETTO:+0100
TZNAME:CET
DTSTART:20231029T010000
END:STANDARD
BEGIN:DAYLIGHT
TZOFFSETFROM:+0100
TZOFFSETTO:+0200
TZNAME:CEST
DTSTART:20240331T010000
END:DAYLIGHT
BEGIN:STANDARD
TZOFFSETFROM:+0200
TZOFFSETTO:+0100
TZNAME:CET
DTSTART:20241027T010000
END:STANDARD
END:VTIMEZONE
BEGIN:VEVENT
DTSTART;TZID=Europe/Ljubljana:20230920T082000
DTEND;TZID=Europe/Ljubljana:20230920T140000
DTSTAMP:20260424T015658
CREATED:20230914T191804Z
LAST-MODIFIED:20230914T191804Z
UID:10000229-1695198000-1695218400@www.os-stranje.si
SUMMARY:Kulturni dan od 6. do 9. razreda - Z glasbo v vesolje
DESCRIPTION:V sredo\, 20. 9. 2023\, bodo imeli učenci od 6. do 9. razreda kulturni dan. V Cankarjevem domu bodo poslušali glasbeno matinejo “Z glasbo v vesolje”. \nUčenci pridejo v šolo za 1. šolsko uro. Iz Ljubljane se vračamo ob 13. uri\, pred šolo bomo predvidoma okoli 14. ure. \nCena koncerta za učence je 6 € + prevoz (cca 5 €).
URL:https://www.os-stranje.si/dogodek/kulturni-dan-od-6-do-9-razreda-z-glasbo-v-vesolje/
ATTACH;FMTTYPE=image/jpeg:https://www.os-stranje.si/wp-content/uploads/2020/12/marius-masalar-rPOmLGwai2w-unsplash.jpg
END:VEVENT
BEGIN:VEVENT
DTSTART;TZID=Europe/Ljubljana:20210915T074000
DTEND;TZID=Europe/Ljubljana:20210915T130000
DTSTAMP:20260424T015658
CREATED:20210913T200635Z
LAST-MODIFIED:20210913T200656Z
UID:10000186-1631691600-1631710800@www.os-stranje.si
SUMMARY:Kulturni dan 6.-9. razred - Z orkestrom po Evropi
DESCRIPTION:V sredo\, 15. 9. 2021\, bodo imeli učenci od 6. do 9. razreda kulturni dan. V Cankarjevem domu bodo poslušali simfonično matinejo Glasbene mladine Slovenije z naslovom Z orkestrom po Evropi. \nZbor pred šolo je ob 7.40\, nato sledi prevzem malice in odhod avtobusa v Ljubljano. Kosila bodo ta dan organizirana. \nUčenci naj bodo primerno oblečeni in obuti. S seboj naj imajo vrečko za malico ter zaščitno masko.
URL:https://www.os-stranje.si/dogodek/kulturni-dan-6-9-razred-z-orkestrom-po-evropi/
ATTACH;FMTTYPE=image/jpeg:https://www.os-stranje.si/wp-content/uploads/2020/12/kael-bloom-0Fko0cLI2VQ-unsplash.jpg
END:VEVENT
BEGIN:VEVENT
DTSTART;TZID=Europe/Ljubljana:20201224T080000
DTEND;TZID=Europe/Ljubljana:20201224T130000
DTSTAMP:20260424T015658
CREATED:20201220T132138Z
LAST-MODIFIED:20201221T205005Z
UID:10000174-1608796800-1608814800@www.os-stranje.si
SUMMARY:Kulturni dan za učence od 6. do 9. razreda
DESCRIPTION:V četrtek\, 24. 12. 2020\, bo potekal kulturni dan za učence od 6. do 9. razreda. Več …
URL:https://www.os-stranje.si/dogodek/kulturni-dan-za-ucence-od-6-do-9-razreda-3/
ATTACH;FMTTYPE=image/jpeg:https://www.os-stranje.si/wp-content/uploads/2020/12/scott-gruber-IaA_5KNVAR4-unsplash.jpg
END:VEVENT
END:VCALENDAR