BEGIN:VCALENDAR
VERSION:2.0
PRODID:-//Osnovna šola Stranje - ECPv6.15.11//NONSGML v1.0//EN
CALSCALE:GREGORIAN
METHOD:PUBLISH
X-WR-CALNAME:Osnovna šola Stranje
X-ORIGINAL-URL:https://www.os-stranje.si
X-WR-CALDESC:Dogodki za Osnovna šola Stranje
REFRESH-INTERVAL;VALUE=DURATION:PT1H
X-Robots-Tag:noindex
X-PUBLISHED-TTL:PT1H
BEGIN:VTIMEZONE
TZID:Europe/Ljubljana
BEGIN:DAYLIGHT
TZOFFSETFROM:+0100
TZOFFSETTO:+0200
TZNAME:CEST
DTSTART:20220327T010000
END:DAYLIGHT
BEGIN:STANDARD
TZOFFSETFROM:+0200
TZOFFSETTO:+0100
TZNAME:CET
DTSTART:20221030T010000
END:STANDARD
BEGIN:DAYLIGHT
TZOFFSETFROM:+0100
TZOFFSETTO:+0200
TZNAME:CEST
DTSTART:20230326T010000
END:DAYLIGHT
BEGIN:STANDARD
TZOFFSETFROM:+0200
TZOFFSETTO:+0100
TZNAME:CET
DTSTART:20231029T010000
END:STANDARD
BEGIN:DAYLIGHT
TZOFFSETFROM:+0100
TZOFFSETTO:+0200
TZNAME:CEST
DTSTART:20240331T010000
END:DAYLIGHT
BEGIN:STANDARD
TZOFFSETFROM:+0200
TZOFFSETTO:+0100
TZNAME:CET
DTSTART:20241027T010000
END:STANDARD
END:VTIMEZONE
BEGIN:VEVENT
DTSTART;TZID=Europe/Ljubljana:20231117T082500
DTEND;TZID=Europe/Ljubljana:20231117T130000
DTSTAMP:20260420T041035
CREATED:20231110T204520Z
LAST-MODIFIED:20231110T204520Z
UID:10000236-1700209500-1700226000@www.os-stranje.si
SUMMARY:Tradicionalni slovenski zajtrk in Dan za spremembe
DESCRIPTION:V petek\, 17. 11. 2023\, bodo učenci prvo uro zajtrkovali Tradicionalni slovenski zajtrk\, nato pa izdelovali izdelke za novoletni bazar.
URL:https://www.os-stranje.si/dogodek/tradicionalni-slovenski-zajtrk-in-dan-za-spremembe/
ATTACH;FMTTYPE=image/jpeg:https://www.os-stranje.si/wp-content/uploads/2023/11/Plakat_TSZ_2023.jpg
END:VEVENT
END:VCALENDAR