BEGIN:VCALENDAR
VERSION:2.0
PRODID:-//Osnovna šola Stranje - ECPv6.15.11//NONSGML v1.0//EN
CALSCALE:GREGORIAN
METHOD:PUBLISH
X-WR-CALNAME:Osnovna šola Stranje
X-ORIGINAL-URL:https://www.os-stranje.si
X-WR-CALDESC:Dogodki za Osnovna šola Stranje
REFRESH-INTERVAL;VALUE=DURATION:PT1H
X-Robots-Tag:noindex
X-PUBLISHED-TTL:PT1H
BEGIN:VTIMEZONE
TZID:Europe/Ljubljana
BEGIN:DAYLIGHT
TZOFFSETFROM:+0100
TZOFFSETTO:+0200
TZNAME:CEST
DTSTART:20230326T010000
END:DAYLIGHT
BEGIN:STANDARD
TZOFFSETFROM:+0200
TZOFFSETTO:+0100
TZNAME:CET
DTSTART:20231029T010000
END:STANDARD
BEGIN:DAYLIGHT
TZOFFSETFROM:+0100
TZOFFSETTO:+0200
TZNAME:CEST
DTSTART:20240331T010000
END:DAYLIGHT
BEGIN:STANDARD
TZOFFSETFROM:+0200
TZOFFSETTO:+0100
TZNAME:CET
DTSTART:20241027T010000
END:STANDARD
BEGIN:DAYLIGHT
TZOFFSETFROM:+0100
TZOFFSETTO:+0200
TZNAME:CEST
DTSTART:20250330T010000
END:DAYLIGHT
BEGIN:STANDARD
TZOFFSETFROM:+0200
TZOFFSETTO:+0100
TZNAME:CET
DTSTART:20251026T010000
END:STANDARD
END:VTIMEZONE
BEGIN:VEVENT
DTSTART;TZID=Europe/Ljubljana:20241015T082500
DTEND;TZID=Europe/Ljubljana:20241015T130000
DTSTAMP:20260420T021524
CREATED:20241011T202503Z
LAST-MODIFIED:20241011T202503Z
UID:10000109-1728980700-1728997200@www.os-stranje.si
SUMMARY:Naravoslovni dan za 8. razred - Reaktor v Podgorici in CČN Domžale-Kamnik
DESCRIPTION:V torek\, 15. oktober 2024\, bodo imeli učenci 8. razredov naravoslovni dan. Ogledali si bodo Informacijski center o jedrski energiji v Podgorici in Centralno čistilno napravo Domžale-Kamnik. \nZbor v avli šole ob 8.25 ter prevzem malice.\nOdhod ob 8.30.\nPredviden prihod ob 13.00. \nNajprej si bodo ogledali Informacijski center o jedrski tehnologiji v Podgorici\, nato pomalicali. Sledi še ogled Centralne čistilne naprave na Pšati od koder se odpeljejo proti šoli.\nNaloga učencev: oddaja rešenih delovnih listov o jedrski tehnologiji ob zaključku naravoslovnega dne\, pri prvi urei kemije pa oddaja strokovnega poročila ogleda čistilne naprave.
URL:https://www.os-stranje.si/dogodek/naravoslovni-dan-za-8-razred-reaktor-v-podgorici-in-ccn-domzale-kamnik/
ATTACH;FMTTYPE=image/jpeg:https://www.os-stranje.si/wp-content/uploads/2018/11/reaktor_03.jpg
END:VEVENT
END:VCALENDAR